BEGIN:VCALENDAR
VERSION:2.0
PRODID:-//CBH - ECPv6.15.17.1//NONSGML v1.0//EN
CALSCALE:GREGORIAN
METHOD:PUBLISH
X-WR-CALNAME:CBH
X-ORIGINAL-URL:https://cbhnew.duckdns.org
X-WR-CALDESC:Eventos para CBH
REFRESH-INTERVAL;VALUE=DURATION:PT1H
X-Robots-Tag:noindex
X-PUBLISHED-TTL:PT1H
BEGIN:VTIMEZONE
TZID:America/Sao_Paulo
BEGIN:STANDARD
TZOFFSETFROM:-0300
TZOFFSETTO:-0300
TZNAME:-03
DTSTART:20200101T000000
END:STANDARD
END:VTIMEZONE
BEGIN:VEVENT
DTSTART;TZID=America/Sao_Paulo:20211104T000000
DTEND;TZID=America/Sao_Paulo:20211107T000000
DTSTAMP:20260424T061601
CREATED:20260302T171938Z
LAST-MODIFIED:20260302T171938Z
UID:10001116-1635984000-1636243200@cbhnew.duckdns.org
SUMMARY:Campeonato Brasileiro de Adestramento Paraequestre - BBC (DF) - 4 a 7/11
DESCRIPTION:Programa
URL:https://cbhnew.duckdns.org/calendario/campeonato-brasileiro-de-adestramento-paraequestre-bbc-df-4-a-7-11/
CATEGORIES:Salto
END:VEVENT
BEGIN:VEVENT
DTSTART;TZID=America/Sao_Paulo:20211104T000000
DTEND;TZID=America/Sao_Paulo:20211107T000000
DTSTAMP:20260424T061601
CREATED:20260302T171938Z
LAST-MODIFIED:20260302T171938Z
UID:10001115-1635984000-1636243200@cbhnew.duckdns.org
SUMMARY:CDI3* e CAN Concurso de Adestramento Internacional e Nacional - SHP - 4 a 7/11
DESCRIPTION:Programa Internacional \nPrograma Nacional
URL:https://cbhnew.duckdns.org/calendario/cdi3-e-can-concurso-de-adestramento-internacional-e-nacional-shp-4-a-7-11/
CATEGORIES:Salto
END:VEVENT
BEGIN:VEVENT
DTSTART;TZID=America/Sao_Paulo:20211105T000000
DTEND;TZID=America/Sao_Paulo:20211106T000000
DTSTAMP:20260424T061601
CREATED:20260302T171954Z
LAST-MODIFIED:20260302T171954Z
UID:10001117-1636070400-1636156800@cbhnew.duckdns.org
SUMMARY:CSN** Taça Bahia de Hipismo Clássico Estoril JL Sítio Chuin (BA) - 5 e 6/11
DESCRIPTION:Programa
URL:https://cbhnew.duckdns.org/calendario/csn-taca-bahia-de-hipismo-classico-estoril-jl-sitio-chuin-ba-5-e-6-11/
END:VEVENT
BEGIN:VEVENT
DTSTART;TZID=America/Sao_Paulo:20211117T000000
DTEND;TZID=America/Sao_Paulo:20211121T000000
DTSTAMP:20260424T061601
CREATED:20260302T171954Z
LAST-MODIFIED:20260302T171954Z
UID:10001118-1637107200-1637452800@cbhnew.duckdns.org
SUMMARY:Campeonato Brasileiro de Adestramento Indoor e Taça Brasil - SHP - 17 a 21/11
DESCRIPTION:Ordens de Entrada e Resultados \nTransmissão ao VivoPrograma atualizado em 16/11
URL:https://cbhnew.duckdns.org/calendario/campeonato-brasileiro-de-adestramento-indoor-e-taca-brasil-shp-17-a-21-11/
END:VEVENT
BEGIN:VEVENT
DTSTART;TZID=America/Sao_Paulo:20211118T000000
DTEND;TZID=America/Sao_Paulo:20211121T000000
DTSTAMP:20260424T061601
CREATED:20260302T171954Z
LAST-MODIFIED:20260302T171954Z
UID:10001119-1637193600-1637452800@cbhnew.duckdns.org
SUMMARY:CSN3* 83º Aniversário SHB - 1ª Semana (RJ) - 18 a 21/11
DESCRIPTION:Ordens de Entrada e Resultados \nTransmissão ao Vivo \nPrograma \nQuadro de Horários \nAdendo
URL:https://cbhnew.duckdns.org/calendario/csn3-83o-aniversario-shb-1a-semana-rj-18-a-21-11/
END:VEVENT
BEGIN:VEVENT
DTSTART;TZID=America/Sao_Paulo:20211122T000000
DTEND;TZID=America/Sao_Paulo:20211122T000000
DTSTAMP:20260424T061601
CREATED:20260302T171954Z
LAST-MODIFIED:20260302T171954Z
UID:10001120-1637539200-1637539200@cbhnew.duckdns.org
SUMMARY:Freestyle Adestramento CBH Indoor - SHP - 22/11
DESCRIPTION:Programa atualizado em 16/11
URL:https://cbhnew.duckdns.org/calendario/freestyle-adestramento-cbh-indoor-shp-22-11/
END:VEVENT
BEGIN:VEVENT
DTSTART;TZID=America/Sao_Paulo:20211124T000000
DTEND;TZID=America/Sao_Paulo:20211128T000000
DTSTAMP:20260424T061601
CREATED:20260302T171955Z
LAST-MODIFIED:20260302T171955Z
UID:10001121-1637712000-1638057600@cbhnew.duckdns.org
SUMMARY:CSN3* e CSI*-W 83º Aniversário SHB - 2ª Semana (RJ) - 24 a 28/11
DESCRIPTION:Programa Nacional  \nPrograma Internacional  \nAdendo
URL:https://cbhnew.duckdns.org/calendario/csn3-e-csi-w-83o-aniversario-shb-2a-semana-rj-24-a-28-11/
END:VEVENT
BEGIN:VEVENT
DTSTART;TZID=America/Sao_Paulo:20211126T000000
DTEND;TZID=America/Sao_Paulo:20211128T000000
DTSTAMP:20260424T061601
CREATED:20260302T172059Z
LAST-MODIFIED:20260302T172059Z
UID:10001122-1637884800-1638057600@cbhnew.duckdns.org
SUMMARY:Concurso Completo CCI3*-S e CCI2*-L - 26 a 28/11
DESCRIPTION:Programa Internacional \nPrograma Nacional
URL:https://cbhnew.duckdns.org/calendario/concurso-completo-cci3-s-e-cci2-l-26-a-28-11/
CATEGORIES:CCE
END:VEVENT
BEGIN:VEVENT
DTSTART;TZID=America/Sao_Paulo:20211126T000000
DTEND;TZID=America/Sao_Paulo:20211128T000000
DTSTAMP:20260424T061601
CREATED:20260302T172059Z
LAST-MODIFIED:20260302T172059Z
UID:10001123-1637884800-1638057600@cbhnew.duckdns.org
SUMMARY:CEN e CEI*** - Haras Triunfo - Palmeiras - PR. 26 a 28/11
DESCRIPTION:Programa Nacional \nPrograma Internacional
URL:https://cbhnew.duckdns.org/calendario/cen-e-cei-haras-triunfo-palmeiras-pr-26-a-28-11/
CATEGORIES:Salto
END:VEVENT
END:VCALENDAR