BEGIN:VCALENDAR
VERSION:2.0
PRODID:-//CBH - ECPv6.15.17.1//NONSGML v1.0//EN
CALSCALE:GREGORIAN
METHOD:PUBLISH
X-WR-CALNAME:CBH
X-ORIGINAL-URL:https://cbhnew.duckdns.org
X-WR-CALDESC:Eventos para CBH
REFRESH-INTERVAL;VALUE=DURATION:PT1H
X-Robots-Tag:noindex
X-PUBLISHED-TTL:PT1H
BEGIN:VTIMEZONE
TZID:America/Sao_Paulo
BEGIN:STANDARD
TZOFFSETFROM:-0300
TZOFFSETTO:-0300
TZNAME:-03
DTSTART:20210101T000000
END:STANDARD
END:VTIMEZONE
BEGIN:VEVENT
DTSTART;TZID=America/Sao_Paulo:20220128T000000
DTEND;TZID=America/Sao_Paulo:20220130T000000
DTSTAMP:20260424T025233
CREATED:20260302T172118Z
LAST-MODIFIED:20260302T172118Z
UID:10001129-1643328000-1643500800@cbhnew.duckdns.org
SUMMARY:CSN* 1ª Etapa Torneio de Verão de Brasília 2022 - SHBR (DF) - 28 a 30/1
DESCRIPTION:Ordens de Entrada e Resultados \nPrograma 
URL:https://cbhnew.duckdns.org/calendario/csn-1a-etapa-torneio-de-verao-de-brasilia-2022-shbr-df-28-a-30-1/
END:VEVENT
END:VCALENDAR