BEGIN:VCALENDAR
VERSION:2.0
PRODID:-//CBH - ECPv6.15.17.1//NONSGML v1.0//EN
CALSCALE:GREGORIAN
METHOD:PUBLISH
X-WR-CALNAME:CBH
X-ORIGINAL-URL:https://cbhnew.duckdns.org
X-WR-CALDESC:Eventos para CBH
REFRESH-INTERVAL;VALUE=DURATION:PT1H
X-Robots-Tag:noindex
X-PUBLISHED-TTL:PT1H
BEGIN:VTIMEZONE
TZID:America/Sao_Paulo
BEGIN:STANDARD
TZOFFSETFROM:-0300
TZOFFSETTO:-0300
TZNAME:-03
DTSTART:20210101T000000
END:STANDARD
END:VTIMEZONE
BEGIN:VEVENT
DTSTART;TZID=America/Sao_Paulo:20220304T000000
DTEND;TZID=America/Sao_Paulo:20220305T000000
DTSTAMP:20260423T235649
CREATED:20260302T172504Z
LAST-MODIFIED:20260302T172504Z
UID:10001142-1646352000-1646438400@cbhnew.duckdns.org
SUMMARY:Temporada Paraequestre Observatória Mundial Dinamarca 2022 - SHP - 4 e 5/3
DESCRIPTION:Programa \nSábado\, 5/3 \nResultado completo.  \nSexta-feira\, 4/3 \nResultado Grau II  \nResultado Grau  III  \nResultado Grau IV
URL:https://cbhnew.duckdns.org/calendario/temporada-paraequestre-observatoria-mundial-dinamarca-2022-shp-4-e-5-3/
CATEGORIES:Volteio
END:VEVENT
BEGIN:VEVENT
DTSTART;TZID=America/Sao_Paulo:20220304T000000
DTEND;TZID=America/Sao_Paulo:20220306T000000
DTSTAMP:20260423T235649
CREATED:20260302T172505Z
LAST-MODIFIED:20260302T172505Z
UID:10001143-1646352000-1646524800@cbhnew.duckdns.org
SUMMARY:CSN 1ª Etapa Torneio de Aniversário de Brasília - BCC - 4 a 6/3
DESCRIPTION:Programa\, Ordens de Entrada e Resultados
URL:https://cbhnew.duckdns.org/calendario/csn-1a-etapa-torneio-de-aniversario-de-brasilia-bcc-4-a-6-3/
CATEGORIES:Volteio
END:VEVENT
BEGIN:VEVENT
DTSTART;TZID=America/Sao_Paulo:20220306T000000
DTEND;TZID=America/Sao_Paulo:20220307T000000
DTSTAMP:20260423T235649
CREATED:20260302T172505Z
LAST-MODIFIED:20260302T172505Z
UID:10001144-1646524800-1646611200@cbhnew.duckdns.org
SUMMARY:Temporada Paraequestre Observatória Mundial Dinamarca 2022 - Três Pontas - 6 e 7/3
DESCRIPTION:Programa \nResultado 6/3 \nResultado 7/3 
URL:https://cbhnew.duckdns.org/calendario/temporada-paraequestre-observatoria-mundial-dinamarca-2022-tres-pontas-6-e-7-3/
CATEGORIES:Volteio
END:VEVENT
BEGIN:VEVENT
DTSTART;TZID=America/Sao_Paulo:20220308T000000
DTEND;TZID=America/Sao_Paulo:20220309T000000
DTSTAMP:20260423T235649
CREATED:20260302T172506Z
LAST-MODIFIED:20260302T172506Z
UID:10001145-1646697600-1646784000@cbhnew.duckdns.org
SUMMARY:Temporada Paraequestre Observatória Mundial Dinamarca 2022 - Sociedade Hípica de Brasília - 8 e 9/3
DESCRIPTION:Programa \nComunicado FHBR – montaria em rampa apropriada \nResultado
URL:https://cbhnew.duckdns.org/calendario/temporada-paraequestre-observatoria-mundial-dinamarca-2022-sociedade-hipica-de-brasilia-8-e-9-3/
CATEGORIES:Volteio
END:VEVENT
BEGIN:VEVENT
DTSTART;TZID=America/Sao_Paulo:20220310T000000
DTEND;TZID=America/Sao_Paulo:20220313T000000
DTSTAMP:20260423T235649
CREATED:20260302T172506Z
LAST-MODIFIED:20260302T172506Z
UID:10001146-1646870400-1647129600@cbhnew.duckdns.org
SUMMARY:CSN3* Curitiba Summer Tour (SHPR) - 10 a 13/3
DESCRIPTION:Ordens de Entrada e Resultados \nPrograma \nAdendo I –  Provas ranking CBH e Circuito de Cavalos Novos
URL:https://cbhnew.duckdns.org/calendario/csn3-curitiba-summer-tour-shpr-10-a-13-3/
CATEGORIES:Volteio
END:VEVENT
BEGIN:VEVENT
DTSTART;TZID=America/Sao_Paulo:20220316T000000
DTEND;TZID=America/Sao_Paulo:20220320T000000
DTSTAMP:20260423T235649
CREATED:20260302T172523Z
LAST-MODIFIED:20260302T172523Z
UID:10001147-1647388800-1647734400@cbhnew.duckdns.org
SUMMARY:CSN4* 6º SHP Open 2022 - SP - 16 a 20/3
DESCRIPTION:Comunicado 2 – série 1.50m \nOrdens de Entrada e Resultados CSN \nOrdens de Entrada e Resultados Cavalos Novos \nTransmissão ao vivo \nPrograma  \nInscrições CSN4* \nInscrições CSN4* Cavalos Novos 
URL:https://cbhnew.duckdns.org/calendario/csn4-6o-shp-open-2022-sp-16-a-20-3/
END:VEVENT
BEGIN:VEVENT
DTSTART;TZID=America/Sao_Paulo:20220319T000000
DTEND;TZID=America/Sao_Paulo:20220319T000000
DTSTAMP:20260423T235649
CREATED:20260302T172524Z
LAST-MODIFIED:20260302T172524Z
UID:10001148-1647648000-1647648000@cbhnew.duckdns.org
SUMMARY:CEN Haras Albar - Campinas (SP) - 19/3
DESCRIPTION:Programa
URL:https://cbhnew.duckdns.org/calendario/cen-haras-albar-campinas-sp-19-3/
END:VEVENT
BEGIN:VEVENT
DTSTART;TZID=America/Sao_Paulo:20220323T000000
DTEND;TZID=America/Sao_Paulo:20220327T000000
DTSTAMP:20260423T235649
CREATED:20260302T172524Z
LAST-MODIFIED:20260302T172524Z
UID:10001149-1647993600-1648339200@cbhnew.duckdns.org
SUMMARY:CSN2* 74º Aniversário da SHC e 1ª Etapa Longines XTC - 23 a 27/3
DESCRIPTION:Ordens de Entrada e Resultados \nPrograma – atualizado em 17/3 \nAdendo I – chamadas e classificações provas
URL:https://cbhnew.duckdns.org/calendario/csn2-74o-aniversario-da-shc-e-1a-etapa-longines-xtc-23-a-27-3/
END:VEVENT
BEGIN:VEVENT
DTSTART;TZID=America/Sao_Paulo:20220324T000000
DTEND;TZID=America/Sao_Paulo:20220327T000000
DTSTAMP:20260423T235649
CREATED:20260302T172525Z
LAST-MODIFIED:20260302T172525Z
UID:10001150-1648080000-1648339200@cbhnew.duckdns.org
SUMMARY:CSN Seletivas Sul-americano da Juventude e CSIe Pré-Jump - SHPOA (RS) - 24 a 27/3
DESCRIPTION:Programa Seletivas Sul-americano da Juventude  \nPrograma CSIe Pré-jump \nResultados
URL:https://cbhnew.duckdns.org/calendario/csn-seletivas-sul-americano-da-juventude-e-csie-pre-jump-shpoa-rs-24-a-27-3/
END:VEVENT
BEGIN:VEVENT
DTSTART;TZID=America/Sao_Paulo:20220325T000000
DTEND;TZID=America/Sao_Paulo:20220327T000000
DTSTAMP:20260423T235649
CREATED:20260302T172525Z
LAST-MODIFIED:20260302T172525Z
UID:10001151-1648166400-1648339200@cbhnew.duckdns.org
SUMMARY:XVI Copa Cidade do Recife e 1ª Etapa Circuito N/NE - Caxangá (PE) - 25 a 27/3
DESCRIPTION:Programa \nAdendo Quadro de Oficiais \nResultados 0.60mResultados 0.80m Resultados 0.90mResultados 1mResultados 1.10mResultados 1.20mResultados 1.30m
URL:https://cbhnew.duckdns.org/calendario/xvi-copa-cidade-do-recife-e-1a-etapa-circuito-n-ne-caxanga-pe-25-a-27-3/
END:VEVENT
BEGIN:VEVENT
DTSTART;TZID=America/Sao_Paulo:20220326T000000
DTEND;TZID=America/Sao_Paulo:20220327T000000
DTSTAMP:20260423T235649
CREATED:20260302T172700Z
LAST-MODIFIED:20260302T172700Z
UID:10001152-1648252800-1648339200@cbhnew.duckdns.org
SUMMARY:CNC - 1ª Etapa Get Guega Eventing Tour - Ribeirão Preto (SP) - 26 e 27/3
DESCRIPTION:Programa
URL:https://cbhnew.duckdns.org/calendario/cnc-1a-etapa-get-guega-eventing-tour-ribeirao-preto-sp-26-e-27-3/
CATEGORIES:Volteio
END:VEVENT
END:VCALENDAR