BEGIN:VCALENDAR
VERSION:2.0
PRODID:-//CBH - ECPv6.15.17.1//NONSGML v1.0//EN
CALSCALE:GREGORIAN
METHOD:PUBLISH
X-ORIGINAL-URL:https://cbhnew.duckdns.org
X-WR-CALDESC:Eventos para CBH
REFRESH-INTERVAL;VALUE=DURATION:PT1H
X-Robots-Tag:noindex
X-PUBLISHED-TTL:PT1H
BEGIN:VTIMEZONE
TZID:America/Sao_Paulo
BEGIN:STANDARD
TZOFFSETFROM:-0300
TZOFFSETTO:-0300
TZNAME:-03
DTSTART:20210101T000000
END:STANDARD
END:VTIMEZONE
BEGIN:VEVENT
DTSTART;TZID=America/Sao_Paulo:20220505T000000
DTEND;TZID=America/Sao_Paulo:20220508T000000
DTSTAMP:20260423T203319
CREATED:20260302T172716Z
LAST-MODIFIED:20260302T172716Z
UID:10001161-1651708800-1651968000@cbhnew.duckdns.org
SUMMARY:CSIe Parque Hípico de Brasília (DF) - 5 a 8/5
DESCRIPTION:Programa
URL:https://cbhnew.duckdns.org/calendario/csie-parque-hipico-de-brasilia-df-5-a-8-5/
END:VEVENT
BEGIN:VEVENT
DTSTART;TZID=America/Sao_Paulo:20220506T000000
DTEND;TZID=America/Sao_Paulo:20220507T000000
DTSTAMP:20260423T203319
CREATED:20260302T172901Z
LAST-MODIFIED:20260302T172901Z
UID:10001162-1651795200-1651881600@cbhnew.duckdns.org
SUMMARY:CSIe Concurso de Salto Interestadual 3ª Etapa do Ranking FHB - 6 e 7/5
DESCRIPTION:Programa
URL:https://cbhnew.duckdns.org/calendario/csie-concurso-de-salto-interestadual-3a-etapa-do-ranking-fhb-6-e-7-5/
CATEGORIES:Volteio
END:VEVENT
BEGIN:VEVENT
DTSTART;TZID=America/Sao_Paulo:20220513T000000
DTEND;TZID=America/Sao_Paulo:20220515T000000
DTSTAMP:20260423T203319
CREATED:20260302T172902Z
LAST-MODIFIED:20260302T172902Z
UID:10001163-1652400000-1652572800@cbhnew.duckdns.org
SUMMARY:CSN Copa Gauss Capital - Equus Clube do Cavalo - Bahia - 13 a 15/5
DESCRIPTION:Programa
URL:https://cbhnew.duckdns.org/calendario/csn-copa-gauss-capital-equus-clube-do-cavalo-bahia-13-a-15-5/
CATEGORIES:Volteio
END:VEVENT
BEGIN:VEVENT
DTSTART;TZID=America/Sao_Paulo:20220517T000000
DTEND;TZID=America/Sao_Paulo:20220522T000000
DTSTAMP:20260423T203319
CREATED:20260302T172902Z
LAST-MODIFIED:20260302T172902Z
UID:10001164-1652745600-1653177600@cbhnew.duckdns.org
SUMMARY:CSN4* 7º CSN D Maio - CHSA (SP) - 17 a 22/5
DESCRIPTION:Ordens de Entrada e Resultados \nCHSA TV – Youtube  \nPrograma \nComunicado I CSN  D Maio \nAdendo I Classificatórias Copa Ouro
URL:https://cbhnew.duckdns.org/calendario/csn4-7o-csn-d-maio-chsa-sp-17-a-22-5/
CATEGORIES:Volteio
END:VEVENT
BEGIN:VEVENT
DTSTART;TZID=America/Sao_Paulo:20220518T000000
DTEND;TZID=America/Sao_Paulo:20220520T000000
DTSTAMP:20260423T203319
CREATED:20260302T172903Z
LAST-MODIFIED:20260302T172903Z
UID:10001165-1652832000-1653004800@cbhnew.duckdns.org
SUMMARY:Concurso de Adestramento Nacional - Qualificatória Odesur - SHP - 18 a 20/5
DESCRIPTION:Programa
URL:https://cbhnew.duckdns.org/calendario/concurso-de-adestramento-nacional-qualificatoria-odesur-shp-18-a-20-5/
CATEGORIES:Volteio
END:VEVENT
BEGIN:VEVENT
DTSTART;TZID=America/Sao_Paulo:20220524T000000
DTEND;TZID=America/Sao_Paulo:20220529T000000
DTSTAMP:20260423T203319
CREATED:20260302T172903Z
LAST-MODIFIED:20260302T172903Z
UID:10001166-1653350400-1653782400@cbhnew.duckdns.org
SUMMARY:Concurso Completo Internacional 3* e 2* e Nacional - Parque M. Osório -Tramandai (RS)  - 24 a 29/5
DESCRIPTION:Programa Internacional  \nPrograma Nacional 
URL:https://cbhnew.duckdns.org/calendario/concurso-completo-internacional-3-e-2-e-nacional-parque-m-osorio-tramandai-rs-24-a-29-5/
CATEGORIES:CCE
END:VEVENT
BEGIN:VEVENT
DTSTART;TZID=America/Sao_Paulo:20220526T000000
DTEND;TZID=America/Sao_Paulo:20220529T000000
DTSTAMP:20260423T203319
CREATED:20260302T172918Z
LAST-MODIFIED:20260302T172918Z
UID:10001167-1653523200-1653782400@cbhnew.duckdns.org
SUMMARY:CSN2* XVI Copa JK de Hipismo\, Circuitos Amadores\, Juventude\, Seletiva Sul-americano - 26 a 29/5
DESCRIPTION:Programa
URL:https://cbhnew.duckdns.org/calendario/csn2-xvi-copa-jk-de-hipismo-circuitos-amadores-juventude-seletiva-sul-americano-26-a-29-5/
END:VEVENT
BEGIN:VEVENT
DTSTART;TZID=America/Sao_Paulo:20220527T000000
DTEND;TZID=America/Sao_Paulo:20220528T000000
DTSTAMP:20260423T203319
CREATED:20260302T172919Z
LAST-MODIFIED:20260302T172919Z
UID:10001168-1653609600-1653696000@cbhnew.duckdns.org
SUMMARY:CEI1* e CEN Fazenda Olhos D Água\, Caetanopolis (MG) - 27 e 28/5
DESCRIPTION:Programa Internacional \nPrograma Nacional
URL:https://cbhnew.duckdns.org/calendario/cei1-e-cen-fazenda-olhos-d-agua-caetanopolis-mg-27-e-28-5/
END:VEVENT
END:VCALENDAR