BEGIN:VCALENDAR
VERSION:2.0
PRODID:-//CBH - ECPv6.15.17.1//NONSGML v1.0//EN
CALSCALE:GREGORIAN
METHOD:PUBLISH
X-WR-CALNAME:CBH
X-ORIGINAL-URL:https://cbhnew.duckdns.org
X-WR-CALDESC:Eventos para CBH
REFRESH-INTERVAL;VALUE=DURATION:PT1H
X-Robots-Tag:noindex
X-PUBLISHED-TTL:PT1H
BEGIN:VTIMEZONE
TZID:America/Sao_Paulo
BEGIN:STANDARD
TZOFFSETFROM:-0300
TZOFFSETTO:-0300
TZNAME:-03
DTSTART:20210101T000000
END:STANDARD
END:VTIMEZONE
BEGIN:VEVENT
DTSTART;TZID=America/Sao_Paulo:20220608T000000
DTEND;TZID=America/Sao_Paulo:20220612T000000
DTSTAMP:20260423T190439
CREATED:20260302T172920Z
LAST-MODIFIED:20260302T172920Z
UID:10001169-1654646400-1654992000@cbhnew.duckdns.org
SUMMARY:CSIW-2* e CSN 51ª Copa São Paulo - SHP - 8 a 12/6
DESCRIPTION:Ordens de Entrada\, Resultados e Transmissão ao Vivo \nPrograma Internacional \nPrograma Nacional  \nPrograma Cavalos Novos 
URL:https://cbhnew.duckdns.org/calendario/csiw-2-e-csn-51a-copa-sao-paulo-shp-8-a-12-6/
END:VEVENT
BEGIN:VEVENT
DTSTART;TZID=America/Sao_Paulo:20220615T000000
DTEND;TZID=America/Sao_Paulo:20220619T000000
DTSTAMP:20260423T190439
CREATED:20260302T172920Z
LAST-MODIFIED:20260302T172920Z
UID:10001170-1655251200-1655596800@cbhnew.duckdns.org
SUMMARY:CSN4* Santa Cecília e Santo Antonio\, Seletiva Juventude - SHB (RJ) - 15 a 19/6
DESCRIPTION:Ordens de Entrada\, Resultados e Transmissão ao Vivo – Portal SHB \nPrograma \nComunicado I
URL:https://cbhnew.duckdns.org/calendario/csn4-santa-cecilia-e-santo-antonio-seletiva-juventude-shb-rj-15-a-19-6/
END:VEVENT
BEGIN:VEVENT
DTSTART;TZID=America/Sao_Paulo:20220616T000000
DTEND;TZID=America/Sao_Paulo:20220619T000000
DTSTAMP:20260423T190439
CREATED:20260302T172921Z
LAST-MODIFIED:20260302T172921Z
UID:10001171-1655337600-1655596800@cbhnew.duckdns.org
SUMMARY:Concurso Completo Nacional Dragões da Independência - Brasília (DF) - 16 a 19/6
DESCRIPTION:Programa
URL:https://cbhnew.duckdns.org/calendario/concurso-completo-nacional-dragoes-da-independencia-brasilia-df-16-a-19-6/
END:VEVENT
BEGIN:VEVENT
DTSTART;TZID=America/Sao_Paulo:20220617T000000
DTEND;TZID=America/Sao_Paulo:20220618T000000
DTSTAMP:20260423T190439
CREATED:20260302T173026Z
LAST-MODIFIED:20260302T173026Z
UID:10001172-1655424000-1655510400@cbhnew.duckdns.org
SUMMARY:CEN / CEI */**/*** e CEIYJ*/** - Jaguariuna - SP - 17 e 18/06
DESCRIPTION:Programa Internacional
URL:https://cbhnew.duckdns.org/calendario/cen-cei-e-ceiyj-jaguariuna-sp-17-e-18-06/
CATEGORIES:Enduro
END:VEVENT
BEGIN:VEVENT
DTSTART;TZID=America/Sao_Paulo:20220617T000000
DTEND;TZID=America/Sao_Paulo:20220618T000000
DTSTAMP:20260423T190439
CREATED:20260302T173026Z
LAST-MODIFIED:20260302T173026Z
UID:10001173-1655424000-1655510400@cbhnew.duckdns.org
SUMMARY:CEN Enduro - Jaguariúna (SP) - 17 e 18/6
DESCRIPTION:Programa
URL:https://cbhnew.duckdns.org/calendario/cen-enduro-jaguariuna-sp-17-e-18-6/
CATEGORIES:Volteio
END:VEVENT
BEGIN:VEVENT
DTSTART;TZID=America/Sao_Paulo:20220617T000000
DTEND;TZID=America/Sao_Paulo:20220619T000000
DTSTAMP:20260423T190439
CREATED:20260302T173027Z
LAST-MODIFIED:20260302T173027Z
UID:10001176-1655424000-1655596800@cbhnew.duckdns.org
SUMMARY:CSIe XXXV Concurso de Salto Coronel Rabelo - Regimento de Polícia Montada (DF) - 17 a 19/6
DESCRIPTION:Programa
URL:https://cbhnew.duckdns.org/calendario/csie-xxxv-concurso-de-salto-coronel-rabelo-regimento-de-policia-montada-df-17-a-19-6-3/
CATEGORIES:Volteio
END:VEVENT
BEGIN:VEVENT
DTSTART;TZID=America/Sao_Paulo:20220617T000000
DTEND;TZID=America/Sao_Paulo:20220619T000000
DTSTAMP:20260423T190439
CREATED:20260302T173027Z
LAST-MODIFIED:20260302T173043Z
UID:10001174-1655424000-1655596800@cbhnew.duckdns.org
SUMMARY:CSIe XXXV Concurso de Salto Coronel Rabelo - Regimento de Polícia Montada (DF) - 17 a 19/6
DESCRIPTION:Programa
URL:https://cbhnew.duckdns.org/calendario/csie-xxxv-concurso-de-salto-coronel-rabelo-regimento-de-policia-montada-df-17-a-19-6/
CATEGORIES:Volteio
END:VEVENT
BEGIN:VEVENT
DTSTART;TZID=America/Sao_Paulo:20220617T000000
DTEND;TZID=America/Sao_Paulo:20220619T000000
DTSTAMP:20260423T190439
CREATED:20260302T173027Z
LAST-MODIFIED:20260302T173027Z
UID:10001175-1655424000-1655596800@cbhnew.duckdns.org
SUMMARY:CSIe XXXV Concurso de Salto Coronel Rabelo - Regimento de Polícia Montada (DF) - 17 a 19/6
DESCRIPTION:Programa
URL:https://cbhnew.duckdns.org/calendario/csie-xxxv-concurso-de-salto-coronel-rabelo-regimento-de-policia-montada-df-17-a-19-6-2/
CATEGORIES:Salto
END:VEVENT
BEGIN:VEVENT
DTSTART;TZID=America/Sao_Paulo:20220617T000000
DTEND;TZID=America/Sao_Paulo:20220619T000000
DTSTAMP:20260423T190439
CREATED:20260302T173043Z
LAST-MODIFIED:20260302T173043Z
UID:10001177-1655424000-1655596800@cbhnew.duckdns.org
SUMMARY:CSIe XXXV Concurso de Salto Coronel Rabelo (DF) - 17 a 19/6
DESCRIPTION:Ordens de Entrada e Resultados \nPrograma
URL:https://cbhnew.duckdns.org/calendario/csie-xxxv-concurso-de-salto-coronel-rabelo-df-17-a-19-6/
END:VEVENT
BEGIN:VEVENT
DTSTART;TZID=America/Sao_Paulo:20220621T000000
DTEND;TZID=America/Sao_Paulo:20220626T000000
DTSTAMP:20260423T190439
CREATED:20260302T173043Z
LAST-MODIFIED:20260302T173043Z
UID:10001178-1655769600-1656201600@cbhnew.duckdns.org
SUMMARY:CBS Amador Top\, Amador\, Amador A e Amador B 2022 - SHB - 21 a 26/6
DESCRIPTION:Ordens de Entrada e Resultados \nTransmissão ao vivo \nPrograma \nComunicado II – juízes e quadro de horários
URL:https://cbhnew.duckdns.org/calendario/cbs-amador-top-amador-amador-a-e-amador-b-2022-shb-21-a-26-6/
END:VEVENT
BEGIN:VEVENT
DTSTART;TZID=America/Sao_Paulo:20220628T000000
DTEND;TZID=America/Sao_Paulo:20220703T000000
DTSTAMP:20260423T190439
CREATED:20260302T173043Z
LAST-MODIFIED:20260302T173043Z
UID:10001179-1656374400-1656806400@cbhnew.duckdns.org
SUMMARY:Campeonato Brasileiro Pré-junior\, Junior e Under 25 - SHPr - 28/6 a 3/7
DESCRIPTION:Ordens de Entrada e Resultados \nTransmissão ao vivo \nPrograma \nComunicado Alteração Delegado Técnico
URL:https://cbhnew.duckdns.org/calendario/campeonato-brasileiro-pre-junior-junior-e-under-25-shpr-28-6-a-3-7/
END:VEVENT
BEGIN:VEVENT
DTSTART;TZID=America/Sao_Paulo:20220629T000000
DTEND;TZID=America/Sao_Paulo:20220703T000000
DTSTAMP:20260423T190439
CREATED:20260302T173043Z
LAST-MODIFIED:20260302T173043Z
UID:10001180-1656460800-1656806400@cbhnew.duckdns.org
SUMMARY:Brasileiro de Escolas de Equitação - CHRJ - Lagoa Santa (MG) - 29/6 a 3/7
DESCRIPTION:Ordens de Entrada e Resultados \nPrograma
URL:https://cbhnew.duckdns.org/calendario/brasileiro-de-escolas-de-equitacao-chrj-lagoa-santa-mg-29-6-a-3-7/
END:VEVENT
END:VCALENDAR