BEGIN:VCALENDAR
VERSION:2.0
PRODID:-//CBH - ECPv6.15.17.1//NONSGML v1.0//EN
CALSCALE:GREGORIAN
METHOD:PUBLISH
X-ORIGINAL-URL:https://cbhnew.duckdns.org
X-WR-CALDESC:Eventos para CBH
REFRESH-INTERVAL;VALUE=DURATION:PT1H
X-Robots-Tag:noindex
X-PUBLISHED-TTL:PT1H
BEGIN:VTIMEZONE
TZID:America/Sao_Paulo
BEGIN:STANDARD
TZOFFSETFROM:-0300
TZOFFSETTO:-0300
TZNAME:-03
DTSTART:20210101T000000
END:STANDARD
END:VTIMEZONE
BEGIN:VEVENT
DTSTART;TZID=America/Sao_Paulo:20220628T000000
DTEND;TZID=America/Sao_Paulo:20220703T000000
DTSTAMP:20260423T174305
CREATED:20260302T173043Z
LAST-MODIFIED:20260302T173043Z
UID:10001179-1656374400-1656806400@cbhnew.duckdns.org
SUMMARY:Campeonato Brasileiro Pré-junior\, Junior e Under 25 - SHPr - 28/6 a 3/7
DESCRIPTION:Ordens de Entrada e Resultados \nTransmissão ao vivo \nPrograma \nComunicado Alteração Delegado Técnico
URL:https://cbhnew.duckdns.org/calendario/campeonato-brasileiro-pre-junior-junior-e-under-25-shpr-28-6-a-3-7/
END:VEVENT
BEGIN:VEVENT
DTSTART;TZID=America/Sao_Paulo:20220629T000000
DTEND;TZID=America/Sao_Paulo:20220703T000000
DTSTAMP:20260423T174305
CREATED:20260302T173043Z
LAST-MODIFIED:20260302T173043Z
UID:10001180-1656460800-1656806400@cbhnew.duckdns.org
SUMMARY:Brasileiro de Escolas de Equitação - CHRJ - Lagoa Santa (MG) - 29/6 a 3/7
DESCRIPTION:Ordens de Entrada e Resultados \nPrograma
URL:https://cbhnew.duckdns.org/calendario/brasileiro-de-escolas-de-equitacao-chrj-lagoa-santa-mg-29-6-a-3-7/
END:VEVENT
BEGIN:VEVENT
DTSTART;TZID=America/Sao_Paulo:20220705T000000
DTEND;TZID=America/Sao_Paulo:20220710T000000
DTSTAMP:20260423T174305
CREATED:20260302T173230Z
LAST-MODIFIED:20260302T173230Z
UID:10001181-1656979200-1657411200@cbhnew.duckdns.org
SUMMARY:Campeonato Brasileiro Mini-mirim\, Pré-mirim e Mirim - Joinville Country Club (SC) - 5 a 10/7
DESCRIPTION:Ordens de Entrada\, Resultados e Transmissão ao vivo \nPrograma \nAdendo I
URL:https://cbhnew.duckdns.org/calendario/campeonato-brasileiro-mini-mirim-pre-mirim-e-mirim-joinville-country-club-sc-5-a-10-7/
CATEGORIES:Volteio
END:VEVENT
BEGIN:VEVENT
DTSTART;TZID=America/Sao_Paulo:20220708T000000
DTEND;TZID=America/Sao_Paulo:20220710T000000
DTSTAMP:20260423T174305
CREATED:20260302T173230Z
LAST-MODIFIED:20260302T173230Z
UID:10001182-1657238400-1657411200@cbhnew.duckdns.org
SUMMARY:CDI2* Centro Hípico Tatuí (SP) - 8 a 10/7
DESCRIPTION:Resultados 9/7 \nResultado CN e TO AmadoresResultado CDI Small Tour Resultado CDI Big Tour \nPrograma \nFormulário Inscrição FEI \nSolicitação Inscrição provas sistema FEISolicitação Inscrição provas sistema FEI
URL:https://cbhnew.duckdns.org/calendario/cdi2-centro-hipico-tatui-sp-8-a-10-7/
CATEGORIES:Volteio
END:VEVENT
BEGIN:VEVENT
DTSTART;TZID=America/Sao_Paulo:20220709T000000
DTEND;TZID=America/Sao_Paulo:20220710T000000
DTSTAMP:20260423T174305
CREATED:20260302T173231Z
LAST-MODIFIED:20260302T173231Z
UID:10001183-1657324800-1657411200@cbhnew.duckdns.org
SUMMARY:Concurso Completo de Equitacão - CCEN - CHSA - 9 e 10/7
DESCRIPTION:Programa \nResultado
URL:https://cbhnew.duckdns.org/calendario/concurso-completo-de-equitacao-ccen-chsa-9-e-10-7/
CATEGORIES:Volteio
END:VEVENT
BEGIN:VEVENT
DTSTART;TZID=America/Sao_Paulo:20220714T000000
DTEND;TZID=America/Sao_Paulo:20220717T000000
DTSTAMP:20260423T174305
CREATED:20260302T173232Z
LAST-MODIFIED:20260302T173232Z
UID:10001184-1657756800-1658016000@cbhnew.duckdns.org
SUMMARY:Brasileiro Senior Top e CSN Amadores- SHP - 14 a 17/7
DESCRIPTION:Ordens de Entrada e Resultados CSN Amadores – 5ª Etapa Longines XTC \nOrdens de Entrada e Resultados Brasileiro Senior Top \nOrdens de Entrada e Resultados Longines Timing  \nPrograma Brasileiro Senior Top  \nPrograma CSN Amadores \nComunicado I CSN Amadores
URL:https://cbhnew.duckdns.org/calendario/brasileiro-senior-top-e-csn-amadores-shp-14-a-17-7/
CATEGORIES:Volteio
END:VEVENT
BEGIN:VEVENT
DTSTART;TZID=America/Sao_Paulo:20220720T000000
DTEND;TZID=America/Sao_Paulo:20220724T000000
DTSTAMP:20260423T174305
CREATED:20260302T173233Z
LAST-MODIFIED:20260302T173233Z
UID:10001185-1658275200-1658620800@cbhnew.duckdns.org
SUMMARY:Brasileiro de Jovens Cavaleiros - SHBR (DF) - 20 a 24/7
DESCRIPTION:Ordens de entrada e resultados \nPrograma \nAdendo I – Programação
URL:https://cbhnew.duckdns.org/calendario/brasileiro-de-jovens-cavaleiros-shbr-df-20-a-24-7/
CATEGORIES:Volteio
END:VEVENT
BEGIN:VEVENT
DTSTART;TZID=America/Sao_Paulo:20220721T000000
DTEND;TZID=America/Sao_Paulo:20220724T000000
DTSTAMP:20260423T174305
CREATED:20260302T173238Z
LAST-MODIFIED:20260302T173238Z
UID:10001186-1658361600-1658620800@cbhnew.duckdns.org
SUMMARY:CDI3* e CAN Sociedade Hípica Paulista - 21 a 24/7
DESCRIPTION:Programa Internacional  \nPrograma Nacional  \nComunicado prazo de pagamento \nComunicado programação  \nFormulário Inscrição FEI \nSolicitação Inscrição provas sistema FEISolicitação Inscrição provas sistema FEI
URL:https://cbhnew.duckdns.org/calendario/cdi3-e-can-sociedade-hipica-paulista-21-a-24-7/
END:VEVENT
BEGIN:VEVENT
DTSTART;TZID=America/Sao_Paulo:20220722T000000
DTEND;TZID=America/Sao_Paulo:20220724T000000
DTSTAMP:20260423T174305
CREATED:20260302T173239Z
LAST-MODIFIED:20260302T173239Z
UID:10001187-1658448000-1658620800@cbhnew.duckdns.org
SUMMARY:Concurso de Enduro Nacional e Internacional - Haras Albar (SP) - 22 a 24/7
DESCRIPTION:Programa Nacional  \nPrograma Internacional 
URL:https://cbhnew.duckdns.org/calendario/concurso-de-enduro-nacional-e-internacional-haras-albar-sp-22-a-24-7/
END:VEVENT
BEGIN:VEVENT
DTSTART;TZID=America/Sao_Paulo:20220728T000000
DTEND;TZID=America/Sao_Paulo:20220731T000000
DTSTAMP:20260423T174305
CREATED:20260302T173240Z
LAST-MODIFIED:20260302T173240Z
UID:10001188-1658966400-1659225600@cbhnew.duckdns.org
SUMMARY:CSN1* BCC Capital Show 2022 - FEI Children´s e World Jumping - BCC (DF) - 28 a 31/7
DESCRIPTION:Ordens de Entrada e Resultados \nPrograma
URL:https://cbhnew.duckdns.org/calendario/csn1-bcc-capital-show-2022-fei-childrens-e-world-jumping-bcc-df-28-a-31-7/
END:VEVENT
BEGIN:VEVENT
DTSTART;TZID=America/Sao_Paulo:20220728T000000
DTEND;TZID=America/Sao_Paulo:20220731T000000
DTSTAMP:20260423T174305
CREATED:20260302T173240Z
LAST-MODIFIED:20260302T173240Z
UID:10001189-1658966400-1659225600@cbhnew.duckdns.org
SUMMARY:CCN Marechal Osório - Campeonato Exército - Tramandaí (RS) - 28 a 31/7
DESCRIPTION:Programa
URL:https://cbhnew.duckdns.org/calendario/ccn-marechal-osorio-campeonato-exercito-tramandai-rs-28-a-31-7/
END:VEVENT
END:VCALENDAR