BEGIN:VCALENDAR
VERSION:2.0
PRODID:-//CBH - ECPv6.15.17.1//NONSGML v1.0//EN
CALSCALE:GREGORIAN
METHOD:PUBLISH
X-WR-CALNAME:CBH
X-ORIGINAL-URL:https://cbhnew.duckdns.org
X-WR-CALDESC:Eventos para CBH
REFRESH-INTERVAL;VALUE=DURATION:PT1H
X-Robots-Tag:noindex
X-PUBLISHED-TTL:PT1H
BEGIN:VTIMEZONE
TZID:America/Sao_Paulo
BEGIN:STANDARD
TZOFFSETFROM:-0300
TZOFFSETTO:-0300
TZNAME:-03
DTSTART:20210101T000000
END:STANDARD
END:VTIMEZONE
BEGIN:VEVENT
DTSTART;TZID=America/Sao_Paulo:20220803T000000
DTEND;TZID=America/Sao_Paulo:20220807T000000
DTSTAMP:20260423T160329
CREATED:20260302T173241Z
LAST-MODIFIED:20260302T173241Z
UID:10001190-1659484800-1659830400@cbhnew.duckdns.org
SUMMARY:CSN4* 77º Aniversário da SHPR - Curitiba - 3 a 7/8
DESCRIPTION:Ordens de Entrada e Resultados \nPrograma \nComunicado I \nComunicado II
URL:https://cbhnew.duckdns.org/calendario/csn4-77o-aniversario-da-shpr-curitiba-3-a-7-8/
END:VEVENT
BEGIN:VEVENT
DTSTART;TZID=America/Sao_Paulo:20220806T000000
DTEND;TZID=America/Sao_Paulo:20220807T000000
DTSTAMP:20260423T160329
CREATED:20260302T173252Z
LAST-MODIFIED:20260302T173252Z
UID:10001191-1659744000-1659830400@cbhnew.duckdns.org
SUMMARY:Desafio Brasil de Adestramento - CH Vila Boa Vista - Três Pontas (MG) - 6 e 7/8
DESCRIPTION:Programa
URL:https://cbhnew.duckdns.org/calendario/desafio-brasil-de-adestramento-ch-vila-boa-vista-tres-pontas-mg-6-e-7-8/
CATEGORIES:Adestramento
END:VEVENT
BEGIN:VEVENT
DTSTART;TZID=America/Sao_Paulo:20220812T000000
DTEND;TZID=America/Sao_Paulo:20220813T000000
DTSTAMP:20260423T160329
CREATED:20260302T173253Z
LAST-MODIFIED:20260302T173253Z
UID:10001192-1660262400-1660348800@cbhnew.duckdns.org
SUMMARY:CSIe Santa Catarina - 2ª Etapa ABCCH - Sociedade Hípica Catarinense - 12 e 13/8
DESCRIPTION:Programa
URL:https://cbhnew.duckdns.org/calendario/csie-santa-catarina-2a-etapa-abcch-sociedade-hipica-catarinense-12-e-13-8/
CATEGORIES:Volteio
END:VEVENT
BEGIN:VEVENT
DTSTART;TZID=America/Sao_Paulo:20220813T000000
DTEND;TZID=America/Sao_Paulo:20220814T000000
DTSTAMP:20260423T160329
CREATED:20260302T173253Z
LAST-MODIFIED:20260302T173253Z
UID:10001193-1660348800-1660435200@cbhnew.duckdns.org
SUMMARY:Concurso Nacional Combinando - GEt Guega Eventing Tour - Ribeirão Preto (SP) - 13 e 14/8
DESCRIPTION:Programa
URL:https://cbhnew.duckdns.org/calendario/concurso-nacional-combinando-get-guega-eventing-tour-ribeirao-preto-sp-13-e-14-8/
CATEGORIES:Volteio
END:VEVENT
BEGIN:VEVENT
DTSTART;TZID=America/Sao_Paulo:20220816T000000
DTEND;TZID=America/Sao_Paulo:20220818T000000
DTSTAMP:20260423T160329
CREATED:20260302T173254Z
LAST-MODIFIED:20260302T173254Z
UID:10001194-1660608000-1660780800@cbhnew.duckdns.org
SUMMARY:Campeonato Brasileiro e Internacional Concurso Completo de Equitação - CHSA (SP)- 16 a 18/9
DESCRIPTION:Programa Campeonato Brasileiro  \nPrograma Internacional
URL:https://cbhnew.duckdns.org/calendario/campeonato-brasileiro-e-internacional-concurso-completo-de-equitacao-chsa-sp-16-a-18-9/
CATEGORIES:CCE
END:VEVENT
BEGIN:VEVENT
DTSTART;TZID=America/Sao_Paulo:20220818T000000
DTEND;TZID=America/Sao_Paulo:20220821T000000
DTSTAMP:20260423T160329
CREATED:20260302T173254Z
LAST-MODIFIED:20260302T173254Z
UID:10001195-1660780800-1661040000@cbhnew.duckdns.org
SUMMARY:XXI Concurso de Inverno Haras Massangana - Petrópolis (RJ) - 18 a 21/8
DESCRIPTION:Programa
URL:https://cbhnew.duckdns.org/calendario/xxi-concurso-de-inverno-haras-massangana-petropolis-rj-18-a-21-8/
CATEGORIES:Salto
END:VEVENT
BEGIN:VEVENT
DTSTART;TZID=America/Sao_Paulo:20220818T000000
DTEND;TZID=America/Sao_Paulo:20220821T000000
DTSTAMP:20260423T160329
CREATED:20260302T173431Z
LAST-MODIFIED:20260302T173431Z
UID:10001196-1660780800-1661040000@cbhnew.duckdns.org
SUMMARY:Internacional e Brasileiro de Enduro 2022 - Brasília - 19 a 21/8
DESCRIPTION:Programa Internacional \nPrograma Nacional
URL:https://cbhnew.duckdns.org/calendario/internacional-e-brasileiro-de-enduro-2022-brasilia-19-a-21-8/
CATEGORIES:Volteio
END:VEVENT
BEGIN:VEVENT
DTSTART;TZID=America/Sao_Paulo:20220819T000000
DTEND;TZID=America/Sao_Paulo:20220821T000000
DTSTAMP:20260423T160329
CREATED:20260302T173431Z
LAST-MODIFIED:20260302T173431Z
UID:10001197-1660867200-1661040000@cbhnew.duckdns.org
SUMMARY:CSN e Circuito N/E Copa Siel Camará -Aquiráz (CE) - 19 a 21/8
DESCRIPTION:Programa
URL:https://cbhnew.duckdns.org/calendario/csn-e-circuito-n-e-copa-siel-camara-aquiraz-ce-19-a-21-8/
CATEGORIES:Volteio
END:VEVENT
BEGIN:VEVENT
DTSTART;TZID=America/Sao_Paulo:20220820T000000
DTEND;TZID=America/Sao_Paulo:20220821T000000
DTSTAMP:20260423T160329
CREATED:20260302T173432Z
LAST-MODIFIED:20260302T173432Z
UID:10001198-1660953600-1661040000@cbhnew.duckdns.org
SUMMARY:Desafio Brasil de Adestramento - Sociedade Hípica Brasília (DF) - 20 e 21/8
DESCRIPTION:Programa
URL:https://cbhnew.duckdns.org/calendario/desafio-brasil-de-adestramento-sociedade-hipica-brasilia-df-20-e-21-8/
CATEGORIES:Adestramento
END:VEVENT
BEGIN:VEVENT
DTSTART;TZID=America/Sao_Paulo:20220823T000000
DTEND;TZID=America/Sao_Paulo:20220828T000000
DTSTAMP:20260423T160329
CREATED:20260302T173433Z
LAST-MODIFIED:20260302T173433Z
UID:10001199-1661212800-1661644800@cbhnew.duckdns.org
SUMMARY:CSI-W e CSN Indoor 2022 - SHP - 23 a 28/8
DESCRIPTION:Série Nacional \nSérie Internacional \nTransmissão ao Vivo \nQuadro Horários atualizado \nComunicado II – horários \nComunicado I – critério de qualificação Copa Ouro e Clássico \nPrograma Internacional  \nPrograma Nacional 
URL:https://cbhnew.duckdns.org/calendario/csi-w-e-csn-indoor-2022-shp-23-a-28-8/
CATEGORIES:Volteio
END:VEVENT
BEGIN:VEVENT
DTSTART;TZID=America/Sao_Paulo:20220825T000000
DTEND;TZID=America/Sao_Paulo:20220828T000000
DTSTAMP:20260423T160329
CREATED:20260302T173434Z
LAST-MODIFIED:20260302T173434Z
UID:10001200-1661385600-1661644800@cbhnew.duckdns.org
SUMMARY:Concurso de Adestramento Nacional e Internacional - Tatuí - 25 a 28/8
DESCRIPTION:Programa Nacional  \nPrograma Internacional 
URL:https://cbhnew.duckdns.org/calendario/concurso-de-adestramento-nacional-e-internacional-tatui-25-a-28-8/
CATEGORIES:Volteio
END:VEVENT
BEGIN:VEVENT
DTSTART;TZID=America/Sao_Paulo:20220826T000000
DTEND;TZID=America/Sao_Paulo:20220827T000000
DTSTAMP:20260423T160329
CREATED:20260302T180242Z
LAST-MODIFIED:20260302T180242Z
UID:10001201-1661472000-1661558400@cbhnew.duckdns.org
SUMMARY:Campeonato Paraquestre Nacional e Paulista  - Tatuí - 26 e 27/8
DESCRIPTION:Programa
URL:https://cbhnew.duckdns.org/calendario/campeonato-paraquestre-nacional-e-paulista-tatui-26-e-27-8/
CATEGORIES:Volteio
END:VEVENT
BEGIN:VEVENT
DTSTART;TZID=America/Sao_Paulo:20220826T000000
DTEND;TZID=America/Sao_Paulo:20220827T000000
DTSTAMP:20260423T160329
CREATED:20260302T180243Z
LAST-MODIFIED:20260302T180243Z
UID:10001202-1661472000-1661558400@cbhnew.duckdns.org
SUMMARY:Campeonato Paraequestre Nacional e Paulista - Tatuí - SP
DESCRIPTION:Programa
URL:https://cbhnew.duckdns.org/calendario/campeonato-paraequestre-nacional-e-paulista-tatui-sp/
CATEGORIES:Geral
END:VEVENT
END:VCALENDAR