BEGIN:VCALENDAR
VERSION:2.0
PRODID:-//CBH - ECPv6.15.17.1//NONSGML v1.0//EN
CALSCALE:GREGORIAN
METHOD:PUBLISH
X-WR-CALNAME:CBH
X-ORIGINAL-URL:https://cbhnew.duckdns.org
X-WR-CALDESC:Eventos para CBH
REFRESH-INTERVAL;VALUE=DURATION:PT1H
X-Robots-Tag:noindex
X-PUBLISHED-TTL:PT1H
BEGIN:VTIMEZONE
TZID:America/Sao_Paulo
BEGIN:STANDARD
TZOFFSETFROM:-0300
TZOFFSETTO:-0300
TZNAME:-03
DTSTART:20210101T000000
END:STANDARD
END:VTIMEZONE
BEGIN:VEVENT
DTSTART;TZID=America/Sao_Paulo:20220903T000000
DTEND;TZID=America/Sao_Paulo:20220904T000000
DTSTAMP:20260423T143132
CREATED:20260302T180243Z
LAST-MODIFIED:20260302T180243Z
UID:10001203-1662163200-1662249600@cbhnew.duckdns.org
SUMMARY:Desafio Brasil de Adestramento e 6ª Etapa Copa CHSA Orlando Facada de Adestramento - 3 e 4/9
DESCRIPTION:Programa
URL:https://cbhnew.duckdns.org/calendario/desafio-brasil-de-adestramento-e-6a-etapa-copa-chsa-orlando-facada-de-adestramento-3-e-4-9/
CATEGORIES:Volteio
END:VEVENT
BEGIN:VEVENT
DTSTART;TZID=America/Sao_Paulo:20220905T000000
DTEND;TZID=America/Sao_Paulo:20220911T000000
DTSTAMP:20260423T143132
CREATED:20260302T180244Z
LAST-MODIFIED:20260302T180244Z
UID:10001204-1662336000-1662854400@cbhnew.duckdns.org
SUMMARY:CSN4* 87º Aniversário CHSA - 5 a 11/9
DESCRIPTION:Quadro de Horários atualizado em 31/8 \nPrograma e inscrições \nAdendo I \nInscrições a partir de 4/8
URL:https://cbhnew.duckdns.org/calendario/csn4-87o-aniversario-chsa-5-a-11-9/
CATEGORIES:Volteio
END:VEVENT
BEGIN:VEVENT
DTSTART;TZID=America/Sao_Paulo:20220906T000000
DTEND;TZID=America/Sao_Paulo:20220906T000000
DTSTAMP:20260423T143132
CREATED:20260302T180253Z
LAST-MODIFIED:20260302T180253Z
UID:10001206-1662422400-1662422400@cbhnew.duckdns.org
SUMMARY:CSN4* 87º Aniversário CHSA (SP) - 6 a 11/9
DESCRIPTION:Programa \nInscrições
URL:https://cbhnew.duckdns.org/calendario/csn4-87o-aniversario-chsa-sp-6-a-11-9/
CATEGORIES:Volteio
END:VEVENT
BEGIN:VEVENT
DTSTART;TZID=America/Sao_Paulo:20220906T000000
DTEND;TZID=America/Sao_Paulo:20220911T000000
DTSTAMP:20260423T143132
CREATED:20260302T180244Z
LAST-MODIFIED:20260302T180244Z
UID:10001205-1662422400-1662854400@cbhnew.duckdns.org
SUMMARY:CSN4* 87° Aniversário CHSA (SP) - 6 a 11/9
DESCRIPTION:Ordens de Entrada e Resultados e infos completas
URL:https://cbhnew.duckdns.org/calendario/csn4-87-aniversario-chsa-sp-6-a-11-9/
CATEGORIES:Volteio
END:VEVENT
BEGIN:VEVENT
DTSTART;TZID=America/Sao_Paulo:20220914T000000
DTEND;TZID=America/Sao_Paulo:20220918T000000
DTSTAMP:20260423T143132
CREATED:20260302T180253Z
LAST-MODIFIED:20260302T180253Z
UID:10001207-1663113600-1663459200@cbhnew.duckdns.org
SUMMARY:CSN4* Copa Sabemi - Sociedade Hípica Brasileira (RJ) - 14 a 18/9
DESCRIPTION:Ordens de Entrada e Resultados \nPrograma \nComunicado Quadro de Horários
URL:https://cbhnew.duckdns.org/calendario/csn4-copa-sabemi-sociedade-hipica-brasileira-rj-14-a-18-9/
CATEGORIES:Volteio
END:VEVENT
BEGIN:VEVENT
DTSTART;TZID=America/Sao_Paulo:20220916T000000
DTEND;TZID=America/Sao_Paulo:20220917T000000
DTSTAMP:20260423T143132
CREATED:20260302T180254Z
LAST-MODIFIED:20260302T180254Z
UID:10001209-1663286400-1663372800@cbhnew.duckdns.org
SUMMARY:Rach Stud International Cup - Fazenda Ilha da Chapada - Boa Esperança (MG) - 16 e 17/9
DESCRIPTION:Programa
URL:https://cbhnew.duckdns.org/calendario/rach-stud-international-cup-fazenda-ilha-da-chapada-boa-esperanca-mg-16-e-17-9/
CATEGORIES:Volteio
END:VEVENT
BEGIN:VEVENT
DTSTART;TZID=America/Sao_Paulo:20220916T000000
DTEND;TZID=America/Sao_Paulo:20220918T000000
DTSTAMP:20260423T143132
CREATED:20260302T180253Z
LAST-MODIFIED:20260302T180253Z
UID:10001208-1663286400-1663459200@cbhnew.duckdns.org
SUMMARY:Campeonato Brasileiro e Internacional de CCE - CHSA - 16 a 18/9
DESCRIPTION:Programa Internacional  \nCampeonato Brasileiro \nOrdens de Entrada e Resultados
URL:https://cbhnew.duckdns.org/calendario/campeonato-brasileiro-e-internacional-de-cce-chsa-16-a-18-9/
CATEGORIES:Volteio
END:VEVENT
BEGIN:VEVENT
DTSTART;TZID=America/Sao_Paulo:20220921T000000
DTEND;TZID=America/Sao_Paulo:20220925T000000
DTSTAMP:20260423T143132
CREATED:20260302T180254Z
LAST-MODIFIED:20260302T180254Z
UID:10001210-1663718400-1664064000@cbhnew.duckdns.org
SUMMARY:Brasileiro Senior\, Senior Especial e Masters 2022 - SHP - 21 a 25/9
DESCRIPTION:Ordens de Entrada\, Resultados e SHPTV \nPrograma  \nInscrições
URL:https://cbhnew.duckdns.org/calendario/brasileiro-senior-senior-especial-e-masters-2022-shp-21-a-25-9/
CATEGORIES:Volteio
END:VEVENT
BEGIN:VEVENT
DTSTART;TZID=America/Sao_Paulo:20220924T000000
DTEND;TZID=America/Sao_Paulo:20220925T000000
DTSTAMP:20260423T143132
CREATED:20260302T180304Z
LAST-MODIFIED:20260302T180304Z
UID:10001211-1663977600-1664064000@cbhnew.duckdns.org
SUMMARY:Desafio Brasil de Adestramento e Campeonato Paranaense - Haras Adal\, Colombo (PR) - 24 e 25/9
DESCRIPTION:Programa
URL:https://cbhnew.duckdns.org/calendario/desafio-brasil-de-adestramento-e-campeonato-paranaense-haras-adal-colombo-pr-24-e-25-9/
CATEGORIES:Volteio
END:VEVENT
END:VCALENDAR