BEGIN:VCALENDAR
VERSION:2.0
PRODID:-//CBH - ECPv6.15.17.1//NONSGML v1.0//EN
CALSCALE:GREGORIAN
METHOD:PUBLISH
X-WR-CALNAME:CBH
X-ORIGINAL-URL:https://cbhnew.duckdns.org
X-WR-CALDESC:Eventos para CBH
REFRESH-INTERVAL;VALUE=DURATION:PT1H
X-Robots-Tag:noindex
X-PUBLISHED-TTL:PT1H
BEGIN:VTIMEZONE
TZID:America/Sao_Paulo
BEGIN:STANDARD
TZOFFSETFROM:-0300
TZOFFSETTO:-0300
TZNAME:-03
DTSTART:20210101T000000
END:STANDARD
END:VTIMEZONE
BEGIN:VEVENT
DTSTART;TZID=America/Sao_Paulo:20221008T000000
DTEND;TZID=America/Sao_Paulo:20221009T000000
DTSTAMP:20260423T125630
CREATED:20260302T180305Z
LAST-MODIFIED:20260302T180305Z
UID:10001212-1665187200-1665273600@cbhnew.duckdns.org
SUMMARY:Desafio Brasil de Adestramento - CELP\, Campo Grande(MS) - 8 e 9/10
DESCRIPTION:Programa
URL:https://cbhnew.duckdns.org/calendario/desafio-brasil-de-adestramento-celp-campo-grandems-8-e-9-10/
CATEGORIES:Volteio
END:VEVENT
BEGIN:VEVENT
DTSTART;TZID=America/Sao_Paulo:20221011T000000
DTEND;TZID=America/Sao_Paulo:20221016T000000
DTSTAMP:20260423T125630
CREATED:20260302T180305Z
LAST-MODIFIED:20260302T180305Z
UID:10001213-1665446400-1665878400@cbhnew.duckdns.org
SUMMARY:CSN4* Agromen\, Brasileiro Cavalos Novos  e LXTC - Orlândia (SP) - 11 a 16/10
DESCRIPTION:Ordens de Entrada e Resultados CSN e Brasileiro de Cavalos Novos \nLongines Timing LXTC \nPrograma e Inscrições CSN4* e LXTC \nPrograma e Inscrições Brasileiro de Cavalos Novos
URL:https://cbhnew.duckdns.org/calendario/csn4-agromen-brasileiro-cavalos-novos-e-lxtc-orlandia-sp-11-a-16-10/
CATEGORIES:Volteio
END:VEVENT
BEGIN:VEVENT
DTSTART;TZID=America/Sao_Paulo:20221020T000000
DTEND;TZID=America/Sao_Paulo:20221023T000000
DTSTAMP:20260423T125630
CREATED:20260302T180305Z
LAST-MODIFIED:20260302T180305Z
UID:10001214-1666224000-1666483200@cbhnew.duckdns.org
SUMMARY:CSN Gauss Capital Bahia Circuito N/NE - Equus Clube do Cavalo - 20 a 23/10
DESCRIPTION:Programa
URL:https://cbhnew.duckdns.org/calendario/csn-gauss-capital-bahia-circuito-n-ne-equus-clube-do-cavalo-20-a-23-10/
CATEGORIES:Volteio
END:VEVENT
BEGIN:VEVENT
DTSTART;TZID=America/Sao_Paulo:20221022T000000
DTEND;TZID=America/Sao_Paulo:20221023T000000
DTSTAMP:20260423T125630
CREATED:20260302T180306Z
LAST-MODIFIED:20260302T180306Z
UID:10001215-1666396800-1666483200@cbhnew.duckdns.org
SUMMARY:Desafio Brasil de Adestramento - SHB (RJ) - 20 e 23/10
DESCRIPTION:Programa
URL:https://cbhnew.duckdns.org/calendario/desafio-brasil-de-adestramento-shb-rj-20-e-23-10/
CATEGORIES:Volteio
END:VEVENT
BEGIN:VEVENT
DTSTART;TZID=America/Sao_Paulo:20221028T000000
DTEND;TZID=America/Sao_Paulo:20221029T000000
DTSTAMP:20260423T125630
CREATED:20260302T180403Z
LAST-MODIFIED:20260302T180403Z
UID:10001216-1666915200-1667001600@cbhnew.duckdns.org
SUMMARY:CSN3* Copa Estoril JL Sítio Chuín - Camaçari (BA) - 28 e 29/10
DESCRIPTION:Programa \nComunicado \nComunicado I
URL:https://cbhnew.duckdns.org/calendario/csn3-copa-estoril-jl-sitio-chuin-camacari-ba-28-e-29-10/
CATEGORIES:Volteio
END:VEVENT
BEGIN:VEVENT
DTSTART;TZID=America/Sao_Paulo:20221029T000000
DTEND;TZID=America/Sao_Paulo:20221030T000000
DTSTAMP:20260423T125630
CREATED:20260302T180404Z
LAST-MODIFIED:20260302T180404Z
UID:10001217-1667001600-1667088000@cbhnew.duckdns.org
SUMMARY:Desafio Brasil de Adestramento - Porto Alegre (RS) - 29 a 30/10
DESCRIPTION:Programa
URL:https://cbhnew.duckdns.org/calendario/desafio-brasil-de-adestramento-porto-alegre-rs-29-a-30-10/
CATEGORIES:Volteio
END:VEVENT
END:VCALENDAR