BEGIN:VCALENDAR
VERSION:2.0
PRODID:-//CBH - ECPv6.15.17.1//NONSGML v1.0//EN
CALSCALE:GREGORIAN
METHOD:PUBLISH
X-WR-CALNAME:CBH
X-ORIGINAL-URL:https://cbhnew.duckdns.org
X-WR-CALDESC:Eventos para CBH
REFRESH-INTERVAL;VALUE=DURATION:PT1H
X-Robots-Tag:noindex
X-PUBLISHED-TTL:PT1H
BEGIN:VTIMEZONE
TZID:America/Sao_Paulo
BEGIN:STANDARD
TZOFFSETFROM:-0300
TZOFFSETTO:-0300
TZNAME:-03
DTSTART:20210101T000000
END:STANDARD
END:VTIMEZONE
BEGIN:VEVENT
DTSTART;TZID=America/Sao_Paulo:20221103T000000
DTEND;TZID=America/Sao_Paulo:20221106T000000
DTSTAMP:20260423T112151
CREATED:20260302T180404Z
LAST-MODIFIED:20260302T180404Z
UID:10001218-1667433600-1667692800@cbhnew.duckdns.org
SUMMARY:Campeonato Brasileiro de Amazonas - JL Sítio Chuín - Camaçari (BA) - 3 a 6/11
DESCRIPTION:Programa
URL:https://cbhnew.duckdns.org/calendario/campeonato-brasileiro-de-amazonas-jl-sitio-chuin-camacari-ba-3-a-6-11/
CATEGORIES:Volteio
END:VEVENT
BEGIN:VEVENT
DTSTART;TZID=America/Sao_Paulo:20221108T000000
DTEND;TZID=America/Sao_Paulo:20221120T000000
DTSTAMP:20260423T112151
CREATED:20260302T180404Z
LAST-MODIFIED:20260302T180404Z
UID:10001219-1667865600-1668902400@cbhnew.duckdns.org
SUMMARY:CSN4* XVII Festival BH - CHSA (SP) - 8 a 20/11
DESCRIPTION:Programa \nOrdens de Entrada e Resultados – 1ª semana \nOrdens de Entrada e Resultados – 2ª semana
URL:https://cbhnew.duckdns.org/calendario/csn4-xvii-festival-bh-chsa-sp-8-a-20-11/
CATEGORIES:Volteio
END:VEVENT
BEGIN:VEVENT
DTSTART;TZID=America/Sao_Paulo:20221110T000000
DTEND;TZID=America/Sao_Paulo:20221113T000000
DTSTAMP:20260423T112151
CREATED:20260302T180404Z
LAST-MODIFIED:20260302T180404Z
UID:10001220-1668038400-1668297600@cbhnew.duckdns.org
SUMMARY:Campeonato Brasileiro e Taça Brasil de Adestramento - SHB (RJ) - 10 a 13/11
DESCRIPTION:Sexta-feira\, 11/11 \nOrdem de Entrada \nResultado online ao vivo \nTransmissão ao Vivo \nPrograma \n 
URL:https://cbhnew.duckdns.org/calendario/campeonato-brasileiro-e-taca-brasil-de-adestramento-shb-rj-10-a-13-11/
CATEGORIES:Volteio
END:VEVENT
BEGIN:VEVENT
DTSTART;TZID=America/Sao_Paulo:20221111T000000
DTEND;TZID=America/Sao_Paulo:20221112T000000
DTSTAMP:20260423T112151
CREATED:20260302T180504Z
LAST-MODIFIED:20260302T180504Z
UID:10001222-1668124800-1668211200@cbhnew.duckdns.org
SUMMARY:CSN* Alagoas / Bahia de Hipismo e 5ª Etapa N/NE - Sítio Chuín (BA) - 11 e 12/11
DESCRIPTION:Programa
URL:https://cbhnew.duckdns.org/calendario/csn-alagoas-bahia-de-hipismo-e-5a-etapa-n-ne-sitio-chuin-ba-11-e-12-11/
CATEGORIES:Volteio
END:VEVENT
BEGIN:VEVENT
DTSTART;TZID=America/Sao_Paulo:20221111T000000
DTEND;TZID=America/Sao_Paulo:20221112T000000
DTSTAMP:20260423T112151
CREATED:20260302T180504Z
LAST-MODIFIED:20260302T180504Z
UID:10001223-1668124800-1668211200@cbhnew.duckdns.org
SUMMARY:CEI3*2*1*/ CEIYJ2*1* e CEN - Enduro - Haras Triunfo\, Palmeira - 11 e 12/11
DESCRIPTION:Programa Internacional  \nPrograma Nacional
URL:https://cbhnew.duckdns.org/calendario/cei321-ceiyj21-e-cen-enduro-haras-triunfo-palmeira-11-e-12-11/
CATEGORIES:Enduro
END:VEVENT
BEGIN:VEVENT
DTSTART;TZID=America/Sao_Paulo:20221111T000000
DTEND;TZID=America/Sao_Paulo:20221113T000000
DTSTAMP:20260423T112151
CREATED:20260302T180503Z
LAST-MODIFIED:20260302T180503Z
UID:10001221-1668124800-1668297600@cbhnew.duckdns.org
SUMMARY:CSN IV Etapa do Campeonato do Circuito N/NE José Arnaldo Lessa Beltrão - Sociedade Hípica de Alagoas (Maceió) - 11 a 13/11
DESCRIPTION:Programa
URL:https://cbhnew.duckdns.org/calendario/csn-iv-etapa-do-campeonato-do-circuito-n-ne-jose-arnaldo-lessa-beltrao-sociedade-hipica-de-alagoas-maceio-11-a-13-11/
CATEGORIES:Volteio
END:VEVENT
BEGIN:VEVENT
DTSTART;TZID=America/Sao_Paulo:20221111T000000
DTEND;TZID=America/Sao_Paulo:20221113T000000
DTSTAMP:20260423T112151
CREATED:20260302T180504Z
LAST-MODIFIED:20260302T180504Z
UID:10001224-1668124800-1668297600@cbhnew.duckdns.org
SUMMARY:Campeonato Brasileiro e Taça Brasil de Adestramento - SHB - 11 a 13/11
DESCRIPTION:Resultado final individual  \nResultado por equipes \nPrograma \nResultados online \nTransmissão ao vivo SHB \nSexta-feira\, 11 \nOrdem de Entrada \nSábado\, 12 \nOrdem de Entrada \nDomingo\, 13 \nOrdem de Entrada 
URL:https://cbhnew.duckdns.org/calendario/campeonato-brasileiro-e-taca-brasil-de-adestramento-shb-11-a-13-11/
CATEGORIES:Volteio
END:VEVENT
BEGIN:VEVENT
DTSTART;TZID=America/Sao_Paulo:20221118T000000
DTEND;TZID=America/Sao_Paulo:20221120T000000
DTSTAMP:20260423T112151
CREATED:20260302T180504Z
LAST-MODIFIED:20260302T180504Z
UID:10001225-1668729600-1668902400@cbhnew.duckdns.org
SUMMARY:Brasileiro Paraequestre 2022 - SHP (SP) - 18 a 20/11
DESCRIPTION:Programa
URL:https://cbhnew.duckdns.org/calendario/brasileiro-paraequestre-2022-shp-sp-18-a-20-11/
CATEGORIES:Volteio
END:VEVENT
BEGIN:VEVENT
DTSTART;TZID=America/Sao_Paulo:20221123T000000
DTEND;TZID=America/Sao_Paulo:20221127T000000
DTSTAMP:20260423T112151
CREATED:20260302T180519Z
LAST-MODIFIED:20260302T180519Z
UID:10001226-1669161600-1669507200@cbhnew.duckdns.org
SUMMARY:CSI-W2* e CSN4* 84º Aniversário da Sociedade Hípica Brasileira (RJ) - 23 a 27/11
DESCRIPTION:Ordens de Entrada e Resultados \nLongines Timing  \nPrograma Internacional \nPrograma Nacional \nComunicado I classificação Copa Ouro \nComunicado II 
URL:https://cbhnew.duckdns.org/calendario/csi-w2-e-csn4-84o-aniversario-da-sociedade-hipica-brasileira-rj-23-a-27-11/
END:VEVENT
BEGIN:VEVENT
DTSTART;TZID=America/Sao_Paulo:20221125T000000
DTEND;TZID=America/Sao_Paulo:20221126T000000
DTSTAMP:20260423T112151
CREATED:20260302T180520Z
LAST-MODIFIED:20260302T180520Z
UID:10001227-1669334400-1669420800@cbhnew.duckdns.org
SUMMARY:CSN* Cidade Morena Campo Grande - Centro Hípico Letícia Brito - Campo Grande (MS)- 25 e 26/11
DESCRIPTION:Programa
URL:https://cbhnew.duckdns.org/calendario/csn-cidade-morena-campo-grande-centro-hipico-leticia-brito-campo-grande-ms-25-e-26-11/
END:VEVENT
BEGIN:VEVENT
DTSTART;TZID=America/Sao_Paulo:20221126T000000
DTEND;TZID=America/Sao_Paulo:20221127T000000
DTSTAMP:20260423T112151
CREATED:20260302T180520Z
LAST-MODIFIED:20260302T180520Z
UID:10001228-1669420800-1669507200@cbhnew.duckdns.org
SUMMARY:Campeonato Brasileiro Volteio  - SHP (SP) - 26 a 27/11
DESCRIPTION:Programa Brasileiro \nFEI Vaulting Challenge Brasil \n 
URL:https://cbhnew.duckdns.org/calendario/campeonato-brasileiro-volteio-shp-sp-26-a-27-11/
END:VEVENT
END:VCALENDAR