BEGIN:VCALENDAR
VERSION:2.0
PRODID:-//CBH - ECPv6.15.17.1//NONSGML v1.0//EN
CALSCALE:GREGORIAN
METHOD:PUBLISH
X-WR-CALNAME:CBH
X-ORIGINAL-URL:https://cbhnew.duckdns.org
X-WR-CALDESC:Eventos para CBH
REFRESH-INTERVAL;VALUE=DURATION:PT1H
X-Robots-Tag:noindex
X-PUBLISHED-TTL:PT1H
BEGIN:VTIMEZONE
TZID:America/Sao_Paulo
BEGIN:STANDARD
TZOFFSETFROM:-0300
TZOFFSETTO:-0300
TZNAME:-03
DTSTART:20220101T000000
END:STANDARD
END:VTIMEZONE
BEGIN:VEVENT
DTSTART;TZID=America/Sao_Paulo:20230127T000000
DTEND;TZID=America/Sao_Paulo:20230129T000000
DTSTAMP:20260423T080834
CREATED:20260302T180603Z
LAST-MODIFIED:20260302T180603Z
UID:10001232-1674777600-1674950400@cbhnew.duckdns.org
SUMMARY:CSN* 1ª Etapa Torneio de Verão Brasília - PHBR - 27 a 29/1
DESCRIPTION:Programa \nOrdens de Entrada e Resultados
URL:https://cbhnew.duckdns.org/calendario/csn-1a-etapa-torneio-de-verao-brasilia-phbr-27-a-29-1/
CATEGORIES:Volteio
END:VEVENT
END:VCALENDAR