BEGIN:VCALENDAR
VERSION:2.0
PRODID:-//CBH - ECPv6.15.17.1//NONSGML v1.0//EN
CALSCALE:GREGORIAN
METHOD:PUBLISH
X-ORIGINAL-URL:https://cbhnew.duckdns.org
X-WR-CALDESC:Eventos para CBH
REFRESH-INTERVAL;VALUE=DURATION:PT1H
X-Robots-Tag:noindex
X-PUBLISHED-TTL:PT1H
BEGIN:VTIMEZONE
TZID:America/Sao_Paulo
BEGIN:STANDARD
TZOFFSETFROM:-0300
TZOFFSETTO:-0300
TZNAME:-03
DTSTART:20220101T000000
END:STANDARD
END:VTIMEZONE
BEGIN:VEVENT
DTSTART;TZID=America/Sao_Paulo:20230210T000000
DTEND;TZID=America/Sao_Paulo:20230212T000000
DTSTAMP:20260423T062242
CREATED:20260302T180604Z
LAST-MODIFIED:20260302T180604Z
UID:10001233-1675987200-1676160000@cbhnew.duckdns.org
SUMMARY:CSN* 2ª Etapa Torneio de Verão Brasiília - SHBr - 10 a 12/2
DESCRIPTION:Programa
URL:https://cbhnew.duckdns.org/calendario/csn-2a-etapa-torneio-de-verao-brasiilia-shbr-10-a-12-2/
CATEGORIES:Volteio
END:VEVENT
BEGIN:VEVENT
DTSTART;TZID=America/Sao_Paulo:20230210T000000
DTEND;TZID=America/Sao_Paulo:20230212T000000
DTSTAMP:20260423T062242
CREATED:20260302T180604Z
LAST-MODIFIED:20260302T180604Z
UID:10001234-1675987200-1676160000@cbhnew.duckdns.org
SUMMARY:CSN* 2ª Etapa Torneio de Verão Brasília - SHBr - 10 a 12/2
DESCRIPTION:Ordens de Entrada e Resultados \nPrograma
URL:https://cbhnew.duckdns.org/calendario/csn-2a-etapa-torneio-de-verao-brasilia-shbr-10-a-12-2/
CATEGORIES:Volteio
END:VEVENT
BEGIN:VEVENT
DTSTART;TZID=America/Sao_Paulo:20230216T000000
DTEND;TZID=America/Sao_Paulo:20230218T000000
DTSTAMP:20260423T062242
CREATED:20260302T180604Z
LAST-MODIFIED:20260302T180604Z
UID:10001235-1676505600-1676678400@cbhnew.duckdns.org
SUMMARY:CSIe Indoor Carnaval Hípico - Sociedade Hípica Catarinense - 16 a 18/2
DESCRIPTION:Programa
URL:https://cbhnew.duckdns.org/calendario/csie-indoor-carnaval-hipico-sociedade-hipica-catarinense-16-a-18-2/
CATEGORIES:Volteio
END:VEVENT
END:VCALENDAR