BEGIN:VCALENDAR
VERSION:2.0
PRODID:-//CBH - ECPv6.15.17.1//NONSGML v1.0//EN
CALSCALE:GREGORIAN
METHOD:PUBLISH
X-ORIGINAL-URL:https://cbhnew.duckdns.org
X-WR-CALDESC:Eventos para CBH
REFRESH-INTERVAL;VALUE=DURATION:PT1H
X-Robots-Tag:noindex
X-PUBLISHED-TTL:PT1H
BEGIN:VTIMEZONE
TZID:America/Sao_Paulo
BEGIN:STANDARD
TZOFFSETFROM:-0300
TZOFFSETTO:-0300
TZNAME:-03
DTSTART:20220101T000000
END:STANDARD
END:VTIMEZONE
BEGIN:VEVENT
DTSTART;TZID=America/Sao_Paulo:20230301T000000
DTEND;TZID=America/Sao_Paulo:20230305T000000
DTSTAMP:20260423T044544
CREATED:20260302T180616Z
LAST-MODIFIED:20260302T180616Z
UID:10001236-1677628800-1677974400@cbhnew.duckdns.org
SUMMARY:1ª Etapa CSIe 35º Torneio de Verão 2023 - CHSA (SP) - 1 a 5/3
DESCRIPTION:Ordens de Entrada e Resultados \nPrograma \nAdendo – Novo Quadro de horários (troca de pistas)
URL:https://cbhnew.duckdns.org/calendario/1a-etapa-csie-35o-torneio-de-verao-2023-chsa-sp-1-a-5-3/
END:VEVENT
BEGIN:VEVENT
DTSTART;TZID=America/Sao_Paulo:20230307T000000
DTEND;TZID=America/Sao_Paulo:20230312T000000
DTSTAMP:20260423T044544
CREATED:20260302T180616Z
LAST-MODIFIED:20260302T180616Z
UID:10001237-1678147200-1678579200@cbhnew.duckdns.org
SUMMARY:CSN3* 2ª Etapa 35º Torneio de Verão - CHSA (SP) - 7 a 12/3
DESCRIPTION:Programa \nOrdens de Entrada e Resultados \nAssista ao vivo
URL:https://cbhnew.duckdns.org/calendario/csn3-2a-etapa-35o-torneio-de-verao-chsa-sp-7-a-12-3/
END:VEVENT
BEGIN:VEVENT
DTSTART;TZID=America/Sao_Paulo:20230309T000000
DTEND;TZID=America/Sao_Paulo:20230312T000000
DTSTAMP:20260423T044544
CREATED:20260302T180616Z
LAST-MODIFIED:20260302T180616Z
UID:10001238-1678320000-1678579200@cbhnew.duckdns.org
SUMMARY:1ª Etapa CSIe Copa FEERJ 2023 - SHB (RJ) - 9 a 11/3
DESCRIPTION:Programa \nComunicado I
URL:https://cbhnew.duckdns.org/calendario/1a-etapa-csie-copa-feerj-2023-shb-rj-9-a-11-3/
END:VEVENT
BEGIN:VEVENT
DTSTART;TZID=America/Sao_Paulo:20230311T000000
DTEND;TZID=America/Sao_Paulo:20230312T000000
DTSTAMP:20260423T044544
CREATED:20260302T180617Z
LAST-MODIFIED:20260302T180617Z
UID:10001239-1678492800-1678579200@cbhnew.duckdns.org
SUMMARY:Concurso Nacional Combinado - GET Guega Eventing Tour - Ribeirão Preto (SP) - 11 e 12/3
DESCRIPTION:Programa
URL:https://cbhnew.duckdns.org/calendario/concurso-nacional-combinado-get-guega-eventing-tour-ribeirao-preto-sp-11-e-12-3/
END:VEVENT
BEGIN:VEVENT
DTSTART;TZID=America/Sao_Paulo:20230315T000000
DTEND;TZID=America/Sao_Paulo:20230319T000000
DTSTAMP:20260423T044544
CREATED:20260302T180617Z
LAST-MODIFIED:20260302T180805Z
UID:10001240-1678838400-1679184000@cbhnew.duckdns.org
SUMMARY:CSN3* Curitiba Summer Tour e Seletiva Sul-americano - 15 a 19/3
DESCRIPTION:Programa \nQuadro de Horários
URL:https://cbhnew.duckdns.org/calendario/csn3-curitiba-summer-tour-e-seletiva-sul-americano-15-a-19-3/
CATEGORIES:Salto
END:VEVENT
BEGIN:VEVENT
DTSTART;TZID=America/Sao_Paulo:20230315T000000
DTEND;TZID=America/Sao_Paulo:20230319T000000
DTSTAMP:20260423T044544
CREATED:20260302T180805Z
LAST-MODIFIED:20260302T180805Z
UID:10001241-1678838400-1679184000@cbhnew.duckdns.org
SUMMARY:EVENTO TESTE
DESCRIPTION:teste
URL:https://cbhnew.duckdns.org/calendario/evento-teste/
CATEGORIES:Geral
END:VEVENT
BEGIN:VEVENT
DTSTART;TZID=America/Sao_Paulo:20230317T000000
DTEND;TZID=America/Sao_Paulo:20230318T000000
DTSTAMP:20260423T044544
CREATED:20260302T180805Z
LAST-MODIFIED:20260302T180805Z
UID:10001242-1679011200-1679097600@cbhnew.duckdns.org
SUMMARY:CEI e CEN Enduro\, Bragança Paulista (SP) - 17 e 18/3
DESCRIPTION:Programa Nacional  \nPrograma Internacional
URL:https://cbhnew.duckdns.org/calendario/cei-e-cen-enduro-braganca-paulista-sp-17-e-18-3/
CATEGORIES:Volteio
END:VEVENT
BEGIN:VEVENT
DTSTART;TZID=America/Sao_Paulo:20230323T000000
DTEND;TZID=America/Sao_Paulo:20230326T000000
DTSTAMP:20260423T044544
CREATED:20260302T180805Z
LAST-MODIFIED:20260302T180820Z
UID:10001243-1679529600-1679788800@cbhnew.duckdns.org
SUMMARY:CDI2* e CAN Clube Hípico de Santo Amaro (SP) - 23 a 26/3
DESCRIPTION:Programa Internacional  \nPrograma Nacional  \nResultados \nFicha de inscrição internacional  \nFicha de inscrição nacional
URL:https://cbhnew.duckdns.org/calendario/cdi2-e-can-clube-hipico-de-santo-amaro-sp-23-a-26-3/
CATEGORIES:Volteio
END:VEVENT
BEGIN:VEVENT
DTSTART;TZID=America/Sao_Paulo:20230324T000000
DTEND;TZID=America/Sao_Paulo:20230326T000000
DTSTAMP:20260423T044544
CREATED:20260302T180820Z
LAST-MODIFIED:20260302T180820Z
UID:10001244-1679616000-1679788800@cbhnew.duckdns.org
SUMMARY:1ª Etapa do Circuito Norte Nordeste de Hipismo - Recife (PE) - 24 a 26/3
DESCRIPTION:Programa \nAdendo
URL:https://cbhnew.duckdns.org/calendario/1a-etapa-do-circuito-norte-nordeste-de-hipismo-recife-pe-24-a-26-3/
END:VEVENT
BEGIN:VEVENT
DTSTART;TZID=America/Sao_Paulo:20230324T000000
DTEND;TZID=America/Sao_Paulo:20230326T000000
DTSTAMP:20260423T044544
CREATED:20260302T180820Z
LAST-MODIFIED:20260302T180820Z
UID:10001245-1679616000-1679788800@cbhnew.duckdns.org
SUMMARY:CAN - CHSA - SP - 24 a 26/03
DESCRIPTION:Programa
URL:https://cbhnew.duckdns.org/calendario/can-chsa-sp-24-a-26-03/
END:VEVENT
BEGIN:VEVENT
DTSTART;TZID=America/Sao_Paulo:20230328T000000
DTEND;TZID=America/Sao_Paulo:20230402T000000
DTSTAMP:20260423T044544
CREATED:20260302T180820Z
LAST-MODIFIED:20260302T180820Z
UID:10001246-1679961600-1680393600@cbhnew.duckdns.org
SUMMARY:CSN4* 7º SHP Open - Sociedade Hípica Paulista - 28/3 a 2/4
DESCRIPTION:Programa \nAdendo I \nAdendo II
URL:https://cbhnew.duckdns.org/calendario/csn4-7o-shp-open-sociedade-hipica-paulista-28-3-a-2-4/
END:VEVENT
BEGIN:VEVENT
DTSTART;TZID=America/Sao_Paulo:20230331T000000
DTEND;TZID=America/Sao_Paulo:20230402T000000
DTSTAMP:20260423T044544
CREATED:20260302T181005Z
LAST-MODIFIED:20260302T181005Z
UID:10001247-1680220800-1680393600@cbhnew.duckdns.org
SUMMARY:CCE Nacional\, Estadual e Copa Santo Amaro - CHSA (SP) - 31/3 a 2/4
DESCRIPTION:Ordens de Entrada e Resultados \nPrograma
URL:https://cbhnew.duckdns.org/calendario/cce-nacional-estadual-e-copa-santo-amaro-chsa-sp-31-3-a-2-4/
CATEGORIES:Salto
END:VEVENT
END:VCALENDAR