BEGIN:VCALENDAR
VERSION:2.0
PRODID:-//CBH - ECPv6.15.17.1//NONSGML v1.0//EN
CALSCALE:GREGORIAN
METHOD:PUBLISH
X-WR-CALNAME:CBH
X-ORIGINAL-URL:https://cbhnew.duckdns.org
X-WR-CALDESC:Eventos para CBH
REFRESH-INTERVAL;VALUE=DURATION:PT1H
X-Robots-Tag:noindex
X-PUBLISHED-TTL:PT1H
BEGIN:VTIMEZONE
TZID:America/Sao_Paulo
BEGIN:STANDARD
TZOFFSETFROM:-0300
TZOFFSETTO:-0300
TZNAME:-03
DTSTART:20220101T000000
END:STANDARD
END:VTIMEZONE
BEGIN:VEVENT
DTSTART;TZID=America/Sao_Paulo:20230505T000000
DTEND;TZID=America/Sao_Paulo:20230507T000000
DTSTAMP:20260423T010030
CREATED:20260302T181021Z
LAST-MODIFIED:20260302T181021Z
UID:10001254-1683244800-1683417600@cbhnew.duckdns.org
SUMMARY:CSN* II Copa Cavalo de Raça 2023 - Anápolis (GO) - 5 a 7/5
DESCRIPTION:Programa
URL:https://cbhnew.duckdns.org/calendario/csn-ii-copa-cavalo-de-raca-2023-anapolis-go-5-a-7-5/
END:VEVENT
BEGIN:VEVENT
DTSTART;TZID=America/Sao_Paulo:20230505T000000
DTEND;TZID=America/Sao_Paulo:20230507T000000
DTSTAMP:20260423T010030
CREATED:20260302T181021Z
LAST-MODIFIED:20260302T181021Z
UID:10001255-1683244800-1683417600@cbhnew.duckdns.org
SUMMARY:CSIe JLP de Hipismo - Centro Hípico JLP\, Fortaleza (CE) - 5 a 7/5
DESCRIPTION:Programa
URL:https://cbhnew.duckdns.org/calendario/csie-jlp-de-hipismo-centro-hipico-jlp-fortaleza-ce-5-a-7-5/
END:VEVENT
BEGIN:VEVENT
DTSTART;TZID=America/Sao_Paulo:20230505T000000
DTEND;TZID=America/Sao_Paulo:20230507T000000
DTSTAMP:20260423T010030
CREATED:20260302T181022Z
LAST-MODIFIED:20260302T181022Z
UID:10001256-1683244800-1683417600@cbhnew.duckdns.org
SUMMARY:CPEDI1*/2*/3*- Sociedade Hípica Paulista - SP - 5 a 7/5
DESCRIPTION:Programa Internacional
URL:https://cbhnew.duckdns.org/calendario/cpedi1-2-3-sociedade-hipica-paulista-sp-5-a-7-5/
END:VEVENT
BEGIN:VEVENT
DTSTART;TZID=America/Sao_Paulo:20230506T000000
DTEND;TZID=America/Sao_Paulo:20230507T000000
DTSTAMP:20260423T010030
CREATED:20260302T181207Z
LAST-MODIFIED:20260302T181207Z
UID:10001257-1683331200-1683417600@cbhnew.duckdns.org
SUMMARY:CCE - Recinto Mário Felicio / Haras Cedro da Colina (SP) - 6 e 7/5
DESCRIPTION:Programa
URL:https://cbhnew.duckdns.org/calendario/cce-recinto-mario-felicio-haras-cedro-da-colina-sp-6-e-7-5/
CATEGORIES:CCE
END:VEVENT
BEGIN:VEVENT
DTSTART;TZID=America/Sao_Paulo:20230510T000000
DTEND;TZID=America/Sao_Paulo:20230514T000000
DTSTAMP:20260423T010030
CREATED:20260302T181207Z
LAST-MODIFIED:20260302T181207Z
UID:10001258-1683676800-1684022400@cbhnew.duckdns.org
SUMMARY:CSN5* Santa Cecília e Santo Antônio 2023 SHB (RJ) - 10 a 14/05
DESCRIPTION:Programa \nOrdens de Entrada e Resultados
URL:https://cbhnew.duckdns.org/calendario/csn5-santa-cecilia-e-santo-antonio-2023-shb-rj-10-a-14-05/
CATEGORIES:Salto
END:VEVENT
BEGIN:VEVENT
DTSTART;TZID=America/Sao_Paulo:20230512T000000
DTEND;TZID=America/Sao_Paulo:20230513T000000
DTSTAMP:20260423T010030
CREATED:20260302T181208Z
LAST-MODIFIED:20260302T181208Z
UID:10001259-1683849600-1683936000@cbhnew.duckdns.org
SUMMARY:Campeonato Brasileiro de Volteio - SHP (SP) - 13 e 14/5
DESCRIPTION:Ordens de Entrada\, Resultados e Transmissão ao vivo \nPrograma
URL:https://cbhnew.duckdns.org/calendario/campeonato-brasileiro-de-volteio-shp-sp-13-e-14-5/
CATEGORIES:Volteio
END:VEVENT
BEGIN:VEVENT
DTSTART;TZID=America/Sao_Paulo:20230516T000000
DTEND;TZID=America/Sao_Paulo:20230521T000000
DTSTAMP:20260423T010030
CREATED:20260302T181208Z
LAST-MODIFIED:20260302T181208Z
UID:10001260-1684195200-1684627200@cbhnew.duckdns.org
SUMMARY:8º CSN D´Maio - CHSA (SP) - 16 a 21/5
DESCRIPTION:Ordens de Entrada\, Resultados e CHSA TV \nPrograma e inscrições  \nComunicado I
URL:https://cbhnew.duckdns.org/calendario/8o-csn-dmaio-chsa-sp-16-a-21-5/
CATEGORIES:Volteio
END:VEVENT
BEGIN:VEVENT
DTSTART;TZID=America/Sao_Paulo:20230520T000000
DTEND;TZID=America/Sao_Paulo:20230521T000000
DTSTAMP:20260423T010030
CREATED:20260302T181208Z
LAST-MODIFIED:20260302T181208Z
UID:10001261-1684540800-1684627200@cbhnew.duckdns.org
SUMMARY:Desafio Brasil de Adestramento - Brasília Country Club ( DF)- 20 e 21/5
DESCRIPTION:Programa
URL:https://cbhnew.duckdns.org/calendario/desafio-brasil-de-adestramento-brasilia-country-club-df-20-e-21-5/
CATEGORIES:Salto
END:VEVENT
BEGIN:VEVENT
DTSTART;TZID=America/Sao_Paulo:20230525T000000
DTEND;TZID=America/Sao_Paulo:20230528T000000
DTSTAMP:20260423T010030
CREATED:20260302T181223Z
LAST-MODIFIED:20260302T181223Z
UID:10001262-1684972800-1685232000@cbhnew.duckdns.org
SUMMARY:CSIe Parque Hípico de Brasília - DF - 25 a 28/05
DESCRIPTION:Programa
URL:https://cbhnew.duckdns.org/calendario/csie-parque-hipico-de-brasilia-df-25-a-28-05/
END:VEVENT
BEGIN:VEVENT
DTSTART;TZID=America/Sao_Paulo:20230526T000000
DTEND;TZID=America/Sao_Paulo:20230528T000000
DTSTAMP:20260423T010030
CREATED:20260302T181223Z
LAST-MODIFIED:20260302T181223Z
UID:10001263-1685059200-1685232000@cbhnew.duckdns.org
SUMMARY:I Copa de Hipismo Viva Agrícola - 2ª Etapa Circuito N/NE - Fortaleza (CE) - 26 a 28/5
DESCRIPTION:Programa
URL:https://cbhnew.duckdns.org/calendario/i-copa-de-hipismo-viva-agricola-2a-etapa-circuito-n-ne-fortaleza-ce-26-a-28-5/
END:VEVENT
BEGIN:VEVENT
DTSTART;TZID=America/Sao_Paulo:20230526T000000
DTEND;TZID=America/Sao_Paulo:20230528T000000
DTSTAMP:20260423T010030
CREATED:20260302T181223Z
LAST-MODIFIED:20260302T181223Z
UID:10001264-1685059200-1685232000@cbhnew.duckdns.org
SUMMARY:Internacional e Nacional CCI3*Le S CCI2*L- Tramandaí (RS) - 26 a 28/5
DESCRIPTION:Programa Internacional  \nPrograma Nacional
URL:https://cbhnew.duckdns.org/calendario/internacional-e-nacional-cci3le-s-cci2l-tramandai-rs-26-a-28-5/
END:VEVENT
BEGIN:VEVENT
DTSTART;TZID=America/Sao_Paulo:20230530T000000
DTEND;TZID=America/Sao_Paulo:20230604T000000
DTSTAMP:20260423T010030
CREATED:20260302T181223Z
LAST-MODIFIED:20260302T181223Z
UID:10001265-1685404800-1685836800@cbhnew.duckdns.org
SUMMARY:CSN5* 52ª Copa São Paulo (SHP) - 30/5 a 2/6
DESCRIPTION:Ordens de Entrada\, Resultados e Transmissão ao vivo \nPrograma \nInscrições – concurso exclsuivo para convidados (exceto séries Cavalos Novos e Senior Top) \nAdendo I
URL:https://cbhnew.duckdns.org/calendario/csn5-52a-copa-sao-paulo-shp-30-5-a-2-6/
END:VEVENT
END:VCALENDAR