BEGIN:VCALENDAR
VERSION:2.0
PRODID:-//CBH - ECPv6.15.17.1//NONSGML v1.0//EN
CALSCALE:GREGORIAN
METHOD:PUBLISH
X-WR-CALNAME:CBH
X-ORIGINAL-URL:https://cbhnew.duckdns.org
X-WR-CALDESC:Eventos para CBH
REFRESH-INTERVAL;VALUE=DURATION:PT1H
X-Robots-Tag:noindex
X-PUBLISHED-TTL:PT1H
BEGIN:VTIMEZONE
TZID:America/Sao_Paulo
BEGIN:STANDARD
TZOFFSETFROM:-0300
TZOFFSETTO:-0300
TZNAME:-03
DTSTART:20220101T000000
END:STANDARD
END:VTIMEZONE
BEGIN:VEVENT
DTSTART;TZID=America/Sao_Paulo:20230530T000000
DTEND;TZID=America/Sao_Paulo:20230604T000000
DTSTAMP:20260422T233249
CREATED:20260302T181223Z
LAST-MODIFIED:20260302T181223Z
UID:10001265-1685404800-1685836800@cbhnew.duckdns.org
SUMMARY:CSN5* 52ª Copa São Paulo (SHP) - 30/5 a 2/6
DESCRIPTION:Ordens de Entrada\, Resultados e Transmissão ao vivo \nPrograma \nInscrições – concurso exclsuivo para convidados (exceto séries Cavalos Novos e Senior Top) \nAdendo I
URL:https://cbhnew.duckdns.org/calendario/csn5-52a-copa-sao-paulo-shp-30-5-a-2-6/
END:VEVENT
BEGIN:VEVENT
DTSTART;TZID=America/Sao_Paulo:20230601T000000
DTEND;TZID=America/Sao_Paulo:20230604T000000
DTSTAMP:20260422T233249
CREATED:20260302T181224Z
LAST-MODIFIED:20260302T181224Z
UID:10001266-1685577600-1685836800@cbhnew.duckdns.org
SUMMARY:CDI3* e CAN - Clube Hípico de Santo Amaro (SP) - 1 a 4/6
DESCRIPTION:Ordens de Entrada\, Resultados e SHPTV \nPrograma CDI  \nPrograma CAN 
URL:https://cbhnew.duckdns.org/calendario/cdi3-e-can-clube-hipico-de-santo-amaro-sp-1-a-4-6/
END:VEVENT
BEGIN:VEVENT
DTSTART;TZID=America/Sao_Paulo:20230602T000000
DTEND;TZID=America/Sao_Paulo:20230603T000000
DTSTAMP:20260422T233249
CREATED:20260302T181409Z
LAST-MODIFIED:20260302T181409Z
UID:10001267-1685664000-1685750400@cbhnew.duckdns.org
SUMMARY:CEN e CEI Caetanópolis - MG - 2 e 3/6
DESCRIPTION:Internacional  \nNacional
URL:https://cbhnew.duckdns.org/calendario/cen-e-cei-caetanopolis-mg-2-e-3-6/
CATEGORIES:Enduro
END:VEVENT
BEGIN:VEVENT
DTSTART;TZID=America/Sao_Paulo:20230615T000000
DTEND;TZID=America/Sao_Paulo:20230618T000000
DTSTAMP:20260422T233249
CREATED:20260302T181409Z
LAST-MODIFIED:20260302T181409Z
UID:10001268-1686787200-1687046400@cbhnew.duckdns.org
SUMMARY:XVII CSN 5* - Copa JK de Hipismo - Brasília (DF) - 15 a 18/6
DESCRIPTION:Ordens de Entrada e Resultados \nPrograma \nAdendo
URL:https://cbhnew.duckdns.org/calendario/xvii-csn-5-copa-jk-de-hipismo-brasilia-df-15-a-18-6/
CATEGORIES:Salto
END:VEVENT
BEGIN:VEVENT
DTSTART;TZID=America/Sao_Paulo:20230617T000000
DTEND;TZID=America/Sao_Paulo:20230618T000000
DTSTAMP:20260422T233249
CREATED:20260302T181410Z
LAST-MODIFIED:20260302T181410Z
UID:10001269-1686960000-1687046400@cbhnew.duckdns.org
SUMMARY:CNC Centro Hípico de Tatuí / Hípica Centaurus (SP) - 17 e 18/6
DESCRIPTION:Programa
URL:https://cbhnew.duckdns.org/calendario/cnc-centro-hipico-de-tatui-hipica-centaurus-sp-17-e-18-6/
CATEGORIES:CCE
END:VEVENT
BEGIN:VEVENT
DTSTART;TZID=America/Sao_Paulo:20230630T000000
DTEND;TZID=America/Sao_Paulo:20230702T000000
DTSTAMP:20260422T233249
CREATED:20260302T181410Z
LAST-MODIFIED:20260302T181410Z
UID:10001270-1688083200-1688256000@cbhnew.duckdns.org
SUMMARY:30/6 a 2/7 | CDI3* e CAN - SHP (SP)
DESCRIPTION:Programa Internacional  \nPrograma Nacional  \n 
URL:https://cbhnew.duckdns.org/calendario/30-6-a-2-7-cdi3-e-can-shp-sp/
CATEGORIES:Adestramento
END:VEVENT
END:VCALENDAR