BEGIN:VCALENDAR
VERSION:2.0
PRODID:-//CBH - ECPv6.15.17.1//NONSGML v1.0//EN
CALSCALE:GREGORIAN
METHOD:PUBLISH
X-ORIGINAL-URL:https://cbhnew.duckdns.org
X-WR-CALDESC:Eventos para CBH
REFRESH-INTERVAL;VALUE=DURATION:PT1H
X-Robots-Tag:noindex
X-PUBLISHED-TTL:PT1H
BEGIN:VTIMEZONE
TZID:America/Sao_Paulo
BEGIN:STANDARD
TZOFFSETFROM:-0300
TZOFFSETTO:-0300
TZNAME:-03
DTSTART:20220101T000000
END:STANDARD
END:VTIMEZONE
BEGIN:VEVENT
DTSTART;TZID=America/Sao_Paulo:20231103T000000
DTEND;TZID=America/Sao_Paulo:20231104T000000
DTSTAMP:20260422T155137
CREATED:20260302T191301Z
LAST-MODIFIED:20260302T191301Z
UID:10001305-1698969600-1699056000@cbhnew.duckdns.org
SUMMARY:CSN3* Copa Estoril JL Sítio Chuin 03 a 04/11
DESCRIPTION:Programa
URL:https://cbhnew.duckdns.org/calendario/csn3-copa-estoril-jl-sitio-chuin-03-a-04-11/
CATEGORIES:Geral
END:VEVENT
BEGIN:VEVENT
DTSTART;TZID=America/Sao_Paulo:20231106T000000
DTEND;TZID=America/Sao_Paulo:20231112T000000
DTSTAMP:20260422T155137
CREATED:20260302T191301Z
LAST-MODIFIED:20260302T191301Z
UID:10001306-1699228800-1699747200@cbhnew.duckdns.org
SUMMARY:CSN5*XVIII Festival Nacional do Cavalo Brasileiro de Hipismo ABCCH 2023
DESCRIPTION:Programa
URL:https://cbhnew.duckdns.org/calendario/csn5xviii-festival-nacional-do-cavalo-brasileiro-de-hipismo-abcch-2023/
CATEGORIES:Geral
END:VEVENT
BEGIN:VEVENT
DTSTART;TZID=America/Sao_Paulo:20231110T000000
DTEND;TZID=America/Sao_Paulo:20231111T000000
DTSTAMP:20260422T155137
CREATED:20260302T191303Z
LAST-MODIFIED:20260302T191303Z
UID:10001307-1699574400-1699660800@cbhnew.duckdns.org
SUMMARY:CEN / CEI PALMEIRA;- PARANÁ 10 A 11/11
DESCRIPTION:Programa
URL:https://cbhnew.duckdns.org/calendario/cen-cei-palmeira-parana-10-a-11-11/
END:VEVENT
BEGIN:VEVENT
DTSTART;TZID=America/Sao_Paulo:20231114T000000
DTEND;TZID=America/Sao_Paulo:20231119T000000
DTSTAMP:20260422T155137
CREATED:20260302T191304Z
LAST-MODIFIED:20260302T191304Z
UID:10001308-1699920000-1700352000@cbhnew.duckdns.org
SUMMARY:CBS Amazonas 2023
DESCRIPTION:Programa
URL:https://cbhnew.duckdns.org/calendario/cbs-amazonas-2023/
END:VEVENT
BEGIN:VEVENT
DTSTART;TZID=America/Sao_Paulo:20231118T000000
DTEND;TZID=America/Sao_Paulo:20231119T000000
DTSTAMP:20260422T155137
CREATED:20260302T191304Z
LAST-MODIFIED:20260302T191304Z
UID:10001309-1700265600-1700352000@cbhnew.duckdns.org
SUMMARY:CCN-C Concurso Completo Nacional – Formato Curto - São Paulo - 18 a 19/11
DESCRIPTION:Programa
URL:https://cbhnew.duckdns.org/calendario/ccn-c-concurso-completo-nacional-formato-curto-sao-paulo-18-a-19-11/
END:VEVENT
BEGIN:VEVENT
DTSTART;TZID=America/Sao_Paulo:20231121T000000
DTEND;TZID=America/Sao_Paulo:20231126T000000
DTSTAMP:20260422T155137
CREATED:20260302T191304Z
LAST-MODIFIED:20260302T191304Z
UID:10001310-1700524800-1700956800@cbhnew.duckdns.org
SUMMARY:CSI-W3* e CSN 85º Aniversário SHB 2023
DESCRIPTION:Programa \nPrograma Internacional \nComnunicado I
URL:https://cbhnew.duckdns.org/calendario/csi-w3-e-csn-85o-aniversario-shb-2023/
END:VEVENT
BEGIN:VEVENT
DTSTART;TZID=America/Sao_Paulo:20231122T000000
DTEND;TZID=America/Sao_Paulo:20231126T000000
DTSTAMP:20260422T155137
CREATED:20260302T191305Z
LAST-MODIFIED:20260302T191305Z
UID:10001311-1700611200-1700956800@cbhnew.duckdns.org
SUMMARY:CAMPEONATO BRASILEIRO DE VOLTEIO & FEI VAULTING CHALLENGE
DESCRIPTION:Programa \nPrograma Internacional
URL:https://cbhnew.duckdns.org/calendario/campeonato-brasileiro-de-volteio-fei-vaulting-challenge/
END:VEVENT
BEGIN:VEVENT
DTSTART;TZID=America/Sao_Paulo:20231130T000000
DTEND;TZID=America/Sao_Paulo:20231203T000000
DTSTAMP:20260422T155137
CREATED:20260302T191349Z
LAST-MODIFIED:20260302T191349Z
UID:10001312-1701302400-1701561600@cbhnew.duckdns.org
SUMMARY:IX CSN* BRASÍLIA INDOOR 2023
DESCRIPTION:Programa
URL:https://cbhnew.duckdns.org/calendario/ix-csn-brasilia-indoor-2023/
CATEGORIES:Geral
END:VEVENT
END:VCALENDAR