BEGIN:VCALENDAR
VERSION:2.0
PRODID:-//CBH - ECPv6.15.17.1//NONSGML v1.0//EN
CALSCALE:GREGORIAN
METHOD:PUBLISH
X-WR-CALNAME:CBH
X-ORIGINAL-URL:https://cbhnew.duckdns.org
X-WR-CALDESC:Eventos para CBH
REFRESH-INTERVAL;VALUE=DURATION:PT1H
X-Robots-Tag:noindex
X-PUBLISHED-TTL:PT1H
BEGIN:VTIMEZONE
TZID:America/Sao_Paulo
BEGIN:STANDARD
TZOFFSETFROM:-0300
TZOFFSETTO:-0300
TZNAME:-03
DTSTART:20230101T000000
END:STANDARD
END:VTIMEZONE
BEGIN:VEVENT
DTSTART;TZID=America/Sao_Paulo:20240201T000000
DTEND;TZID=America/Sao_Paulo:20240204T000000
DTSTAMP:20260422T112239
CREATED:20260302T191404Z
LAST-MODIFIED:20260302T191404Z
UID:10001320-1706745600-1707004800@cbhnew.duckdns.org
SUMMARY:CCI / CCN Internacional e Nacional Concurso Completo - EsEqEx (RJ) - 1 a 4/2
DESCRIPTION:Programa Nacional \nPrograma Internacional \n 
URL:https://cbhnew.duckdns.org/calendario/cci-ccn-internacional-e-nacional-concurso-completo-eseqex-rj-1-a-4-2/
END:VEVENT
BEGIN:VEVENT
DTSTART;TZID=America/Sao_Paulo:20240222T000000
DTEND;TZID=America/Sao_Paulo:20240225T000000
DTSTAMP:20260422T112239
CREATED:20260302T191405Z
LAST-MODIFIED:20260302T191405Z
UID:10001321-1708560000-1708819200@cbhnew.duckdns.org
SUMMARY:CDI3*2*1* e CAN Internacional e Nacional Adestramento - SHP (SP) - 22 a 25/2
DESCRIPTION:Transmissão ao vivo \nDomingo\, 25/2 \nOrdem de Entrada CAN  \nOrdem de Entrada CDI \nSábado\, 24/2 \nOrdem de Entrada CAN  \nOrdem de Entrada CDI \nSexta-feira\, 23/2 \nOrdem de Entrada CDI  \nOrdem de Entrada CAN \nOrdens de Entrada e Resulltados ao vivo – gira.io \nInscritos internacional  \nInscritos nacional \nPrograma Nacional \nPrograma Internacional \n Ficha de Inscrição
URL:https://cbhnew.duckdns.org/calendario/cdi321-e-can-internacional-e-nacional-adestramento-shp-sp-22-a-25-2/
END:VEVENT
BEGIN:VEVENT
DTSTART;TZID=America/Sao_Paulo:20240227T000000
DTEND;TZID=America/Sao_Paulo:20240303T000000
DTSTAMP:20260422T112239
CREATED:20260302T191550Z
LAST-MODIFIED:20260302T191550Z
UID:10001322-1708992000-1709424000@cbhnew.duckdns.org
SUMMARY:CSN3* XXXVI Torneio de Verão 2024 - CHSA - 27/2 a 3/3
DESCRIPTION:Ordens de Entrada e Resultados \nTransmissão ao vivo \nPrograma \n 
URL:https://cbhnew.duckdns.org/calendario/csn3-xxxvi-torneio-de-verao-2024-chsa-27-2-a-3-3/
CATEGORIES:Geral
END:VEVENT
END:VCALENDAR