BEGIN:VCALENDAR
VERSION:2.0
PRODID:-//CBH - ECPv6.15.17.1//NONSGML v1.0//EN
CALSCALE:GREGORIAN
METHOD:PUBLISH
X-ORIGINAL-URL:https://cbhnew.duckdns.org
X-WR-CALDESC:Eventos para CBH
REFRESH-INTERVAL;VALUE=DURATION:PT1H
X-Robots-Tag:noindex
X-PUBLISHED-TTL:PT1H
BEGIN:VTIMEZONE
TZID:America/Sao_Paulo
BEGIN:STANDARD
TZOFFSETFROM:-0300
TZOFFSETTO:-0300
TZNAME:-03
DTSTART:20230101T000000
END:STANDARD
END:VTIMEZONE
BEGIN:VEVENT
DTSTART;TZID=America/Sao_Paulo:20240405T000000
DTEND;TZID=America/Sao_Paulo:20240407T000000
DTSTAMP:20260422T082725
CREATED:20260302T191606Z
LAST-MODIFIED:20260302T191606Z
UID:10001328-1712275200-1712448000@cbhnew.duckdns.org
SUMMARY:III CSN 2* - Cavalo de Raça - GO  05 a 07/04
DESCRIPTION:Programa
URL:https://cbhnew.duckdns.org/calendario/iii-csn-2-cavalo-de-raca-go-05-a-07-04/
END:VEVENT
BEGIN:VEVENT
DTSTART;TZID=America/Sao_Paulo:20240406T000000
DTEND;TZID=America/Sao_Paulo:20240407T000000
DTSTAMP:20260422T082725
CREATED:20260302T191606Z
LAST-MODIFIED:20260302T191606Z
UID:10001329-1712361600-1712448000@cbhnew.duckdns.org
SUMMARY:CEN/CEI - Bragança Paulista - SP  06 a 07/04
DESCRIPTION:Programa Nacional \nPrograma Internacional
URL:https://cbhnew.duckdns.org/calendario/cen-cei-braganca-paulista-sp-06-a-07-04/
END:VEVENT
BEGIN:VEVENT
DTSTART;TZID=America/Sao_Paulo:20240410T000000
DTEND;TZID=America/Sao_Paulo:20240414T000000
DTSTAMP:20260422T082725
CREATED:20260302T191606Z
LAST-MODIFIED:20260302T191606Z
UID:10001330-1712707200-1713052800@cbhnew.duckdns.org
SUMMARY:CSN 5* - SHP OPEN 2024 - 10 a 14/04
DESCRIPTION:Ordens de Entrada e Resultados  \nTransmissão ao vivo SHPTV / Horsepix \nNovo Quadro de Horários (versão 10/4) \nPrograma \nAdendo I \nAdendo II
URL:https://cbhnew.duckdns.org/calendario/csn-5-shp-open-2024-10-a-14-04/
END:VEVENT
BEGIN:VEVENT
DTSTART;TZID=America/Sao_Paulo:20240413T000000
DTEND;TZID=America/Sao_Paulo:20240414T000000
DTSTAMP:20260422T082725
CREATED:20260302T191606Z
LAST-MODIFIED:20260302T191606Z
UID:10001331-1712966400-1713052800@cbhnew.duckdns.org
SUMMARY:CNC - GET Guega Eventing Tour - SHRP -  13 a 14/04
DESCRIPTION:Programa
URL:https://cbhnew.duckdns.org/calendario/cnc-get-guega-eventing-tour-shrp-13-a-14-04/
END:VEVENT
BEGIN:VEVENT
DTSTART;TZID=America/Sao_Paulo:20240420T000000
DTEND;TZID=America/Sao_Paulo:20240420T000000
DTSTAMP:20260422T082725
CREATED:20260302T191750Z
LAST-MODIFIED:20260302T191750Z
UID:10001332-1713571200-1713571200@cbhnew.duckdns.org
SUMMARY:CEN - BALSA NOVA - PR - 20/04
DESCRIPTION:Programa
URL:https://cbhnew.duckdns.org/calendario/cen-balsa-nova-pr-20-04/
CATEGORIES:Geral
END:VEVENT
BEGIN:VEVENT
DTSTART;TZID=America/Sao_Paulo:20240423T000000
DTEND;TZID=America/Sao_Paulo:20240428T000000
DTSTAMP:20260422T082725
CREATED:20260302T191750Z
LAST-MODIFIED:20260302T191750Z
UID:10001333-1713830400-1714262400@cbhnew.duckdns.org
SUMMARY:CSI-W 2* / CSN 4* - Cidade de Curitiba - PR - 23 a 28/04
DESCRIPTION:Ordens de Entrada e Resultados Série Internacional \nOrdens de Entrada e Resultados Serie Nacional \nTransmissão ao vivo Go Jump TV \nPrograma Nacional \nComunicado Horários e Premiação \nAdendo I \nPrograma Internacional
URL:https://cbhnew.duckdns.org/calendario/csi-w-2-csn-4-cidade-de-curitiba-pr-23-a-28-04/
CATEGORIES:Geral
END:VEVENT
BEGIN:VEVENT
DTSTART;TZID=America/Sao_Paulo:20240428T000000
DTEND;TZID=America/Sao_Paulo:20240428T000000
DTSTAMP:20260422T082725
CREATED:20260302T191751Z
LAST-MODIFIED:20260302T191751Z
UID:10001334-1714262400-1714262400@cbhnew.duckdns.org
SUMMARY:Campeonato Brasileiro de Volteio - I Etapa
DESCRIPTION:Programa
URL:https://cbhnew.duckdns.org/calendario/campeonato-brasileiro-de-volteio-i-etapa/
CATEGORIES:Geral
END:VEVENT
END:VCALENDAR