BEGIN:VCALENDAR
VERSION:2.0
PRODID:-//CBH - ECPv6.15.17.1//NONSGML v1.0//EN
CALSCALE:GREGORIAN
METHOD:PUBLISH
X-WR-CALNAME:CBH
X-ORIGINAL-URL:https://cbhnew.duckdns.org
X-WR-CALDESC:Eventos para CBH
REFRESH-INTERVAL;VALUE=DURATION:PT1H
X-Robots-Tag:noindex
X-PUBLISHED-TTL:PT1H
BEGIN:VTIMEZONE
TZID:America/Sao_Paulo
BEGIN:STANDARD
TZOFFSETFROM:-0300
TZOFFSETTO:-0300
TZNAME:-03
DTSTART:20230101T000000
END:STANDARD
END:VTIMEZONE
BEGIN:VEVENT
DTSTART;TZID=America/Sao_Paulo:20240704T000000
DTEND;TZID=America/Sao_Paulo:20240707T000000
DTSTAMP:20260422T033302
CREATED:20260302T192007Z
LAST-MODIFIED:20260302T192007Z
UID:10001353-1720051200-1720310400@cbhnew.duckdns.org
SUMMARY:CBS Jovens Cavaleiros - DF 04 a 07/07
DESCRIPTION:Programa \nAdendo I
URL:https://cbhnew.duckdns.org/calendario/cbs-jovens-cavaleiros-df-04-a-07-07/
END:VEVENT
BEGIN:VEVENT
DTSTART;TZID=America/Sao_Paulo:20240705T000000
DTEND;TZID=America/Sao_Paulo:20240707T000000
DTSTAMP:20260422T033302
CREATED:20260302T192008Z
LAST-MODIFIED:20260302T192008Z
UID:10001354-1720137600-1720310400@cbhnew.duckdns.org
SUMMARY:Campeonato Brasileiro de Hipismo Completo - 05 a 07/07 - RJ
DESCRIPTION:Programa
URL:https://cbhnew.duckdns.org/calendario/campeonato-brasileiro-de-hipismo-completo-05-a-07-07-rj/
END:VEVENT
BEGIN:VEVENT
DTSTART;TZID=America/Sao_Paulo:20240706T000000
DTEND;TZID=America/Sao_Paulo:20240706T000000
DTSTAMP:20260422T033302
CREATED:20260302T192008Z
LAST-MODIFIED:20260302T192008Z
UID:10001355-1720224000-1720224000@cbhnew.duckdns.org
SUMMARY:CEI / CEN - Brasília - DF 06/07
DESCRIPTION:Programa Nacional \nPrograma Internacional
URL:https://cbhnew.duckdns.org/calendario/cei-cen-brasilia-df-06-07/
END:VEVENT
BEGIN:VEVENT
DTSTART;TZID=America/Sao_Paulo:20240709T000000
DTEND;TZID=America/Sao_Paulo:20240714T000000
DTSTAMP:20260422T033302
CREATED:20260302T192008Z
LAST-MODIFIED:20260302T192008Z
UID:10001356-1720483200-1720915200@cbhnew.duckdns.org
SUMMARY:Campeonato Brasileiro da Juventudade - CHSA - SP - 9 a 14/7
DESCRIPTION:Ordens de Entrada e Resultados \nQuadro de Horários \nCHSATV: assista ao vivo \nPrograma
URL:https://cbhnew.duckdns.org/calendario/campeonato-brasileiro-da-juventudade-chsa-sp-9-a-14-7/
END:VEVENT
BEGIN:VEVENT
DTSTART;TZID=America/Sao_Paulo:20240713T000000
DTEND;TZID=America/Sao_Paulo:20240714T000000
DTSTAMP:20260422T033302
CREATED:20260302T192153Z
LAST-MODIFIED:20260302T192153Z
UID:10001357-1720828800-1720915200@cbhnew.duckdns.org
SUMMARY:Desafio Brasil de Adestramento - Colombo - PR 13 a 14/07
DESCRIPTION:Programa
URL:https://cbhnew.duckdns.org/calendario/desafio-brasil-de-adestramento-colombo-pr-13-a-14-07/
CATEGORIES:Geral
END:VEVENT
BEGIN:VEVENT
DTSTART;TZID=America/Sao_Paulo:20240723T000000
DTEND;TZID=America/Sao_Paulo:20240728T000000
DTSTAMP:20260422T033302
CREATED:20260302T192154Z
LAST-MODIFIED:20260302T192154Z
UID:10001358-1721692800-1722124800@cbhnew.duckdns.org
SUMMARY:CBS Escolas - PR - 23 a 28/07
DESCRIPTION:Programa \nComunicado I
URL:https://cbhnew.duckdns.org/calendario/cbs-escolas-pr-23-a-28-07/
CATEGORIES:Geral
END:VEVENT
END:VCALENDAR