BEGIN:VCALENDAR
VERSION:2.0
PRODID:-//CBH - ECPv6.15.17.1//NONSGML v1.0//EN
CALSCALE:GREGORIAN
METHOD:PUBLISH
X-WR-CALNAME:CBH
X-ORIGINAL-URL:https://cbhnew.duckdns.org
X-WR-CALDESC:Eventos para CBH
REFRESH-INTERVAL;VALUE=DURATION:PT1H
X-Robots-Tag:noindex
X-PUBLISHED-TTL:PT1H
BEGIN:VTIMEZONE
TZID:America/Sao_Paulo
BEGIN:STANDARD
TZOFFSETFROM:-0300
TZOFFSETTO:-0300
TZNAME:-03
DTSTART:20230101T000000
END:STANDARD
END:VTIMEZONE
BEGIN:VEVENT
DTSTART;TZID=America/Sao_Paulo:20240903T000000
DTEND;TZID=America/Sao_Paulo:20240908T000000
DTSTAMP:20260422T002049
CREATED:20260302T192354Z
LAST-MODIFIED:20260302T192354Z
UID:10001369-1725321600-1725753600@cbhnew.duckdns.org
SUMMARY:CSI 2*-W / CSN 5* 89º Aniversário CHSA - SP 03 a 08/09
DESCRIPTION:Programa Nacional \nPrograma Internacional
URL:https://cbhnew.duckdns.org/calendario/csi-2-w-csn-5-89o-aniversario-chsa-sp-03-a-08-09/
CATEGORIES:Geral
END:VEVENT
BEGIN:VEVENT
DTSTART;TZID=America/Sao_Paulo:20240905T000000
DTEND;TZID=America/Sao_Paulo:20240908T000000
DTSTAMP:20260422T002049
CREATED:20260302T192354Z
LAST-MODIFIED:20260302T192354Z
UID:10001371-1725494400-1725753600@cbhnew.duckdns.org
SUMMARY:CAN - São Paulo - SP 05 a 08/09
DESCRIPTION:Programa
URL:https://cbhnew.duckdns.org/calendario/can-sao-paulo-sp-05-a-08-09/
CATEGORIES:Geral
END:VEVENT
BEGIN:VEVENT
DTSTART;TZID=America/Sao_Paulo:20240905T000000
DTEND;TZID=America/Sao_Paulo:20240908T000000
DTSTAMP:20260422T002049
CREATED:20260302T192354Z
LAST-MODIFIED:20260302T192354Z
UID:10001370-1725494400-1725753600@cbhnew.duckdns.org
SUMMARY:CDI - São Paulo - SP 05 a 08/09
DESCRIPTION:Programa Internacional
URL:https://cbhnew.duckdns.org/calendario/cdi-sao-paulo-sp-05-a-08-09/
CATEGORIES:Geral
END:VEVENT
BEGIN:VEVENT
DTSTART;TZID=America/Sao_Paulo:20240913T000000
DTEND;TZID=America/Sao_Paulo:20240914T000000
DTSTAMP:20260422T002049
CREATED:20260302T192408Z
LAST-MODIFIED:20260302T192408Z
UID:10001372-1726185600-1726272000@cbhnew.duckdns.org
SUMMARY:CEN / CEI - Caetanopolis - MG 13 a 14/09
DESCRIPTION:Programa Nacional \nPrograma Internacional
URL:https://cbhnew.duckdns.org/calendario/cen-cei-caetanopolis-mg-13-a-14-09/
END:VEVENT
BEGIN:VEVENT
DTSTART;TZID=America/Sao_Paulo:20240913T000000
DTEND;TZID=America/Sao_Paulo:20240915T000000
DTSTAMP:20260422T002049
CREATED:20260302T192409Z
LAST-MODIFIED:20260302T192409Z
UID:10001373-1726185600-1726358400@cbhnew.duckdns.org
SUMMARY:CSN* - II Copa Paladino de Hipismo - Conde - PB - 13 a 15/09
DESCRIPTION:Programa \nAdendo I
URL:https://cbhnew.duckdns.org/calendario/csn-ii-copa-paladino-de-hipismo-conde-pb-13-a-15-09/
END:VEVENT
BEGIN:VEVENT
DTSTART;TZID=America/Sao_Paulo:20240913T000000
DTEND;TZID=America/Sao_Paulo:20240915T000000
DTSTAMP:20260422T002049
CREATED:20260302T192409Z
LAST-MODIFIED:20260302T192409Z
UID:10001374-1726185600-1726358400@cbhnew.duckdns.org
SUMMARY:CSN 64º Aniversário SHBr - Brasília - DF 13 a 15/09
DESCRIPTION:Programa
URL:https://cbhnew.duckdns.org/calendario/csn-64o-aniversario-shbr-brasilia-df-13-a-15-09/
END:VEVENT
BEGIN:VEVENT
DTSTART;TZID=America/Sao_Paulo:20240914T000000
DTEND;TZID=America/Sao_Paulo:20240915T000000
DTSTAMP:20260422T002049
CREATED:20260302T192409Z
LAST-MODIFIED:20260302T192409Z
UID:10001375-1726272000-1726358400@cbhnew.duckdns.org
SUMMARY:Desafio Brasil de Adestramento - Porto Alegre - RS - 14 a 15/09
DESCRIPTION:Programa
URL:https://cbhnew.duckdns.org/calendario/desafio-brasil-de-adestramento-porto-alegre-rs-14-a-15-09/
END:VEVENT
BEGIN:VEVENT
DTSTART;TZID=America/Sao_Paulo:20240919T000000
DTEND;TZID=America/Sao_Paulo:20240922T000000
DTSTAMP:20260422T002049
CREATED:20260302T192409Z
LAST-MODIFIED:20260302T192409Z
UID:10001376-1726704000-1726963200@cbhnew.duckdns.org
SUMMARY:CSN 5* - 79º Aniversário da SHPR - Curitiba - PR - 19 a 22/09
DESCRIPTION:Ordens de Entrada e Resultados \nPrograma
URL:https://cbhnew.duckdns.org/calendario/csn-5-79o-aniversario-da-shpr-curitiba-pr-19-a-22-09/
END:VEVENT
BEGIN:VEVENT
DTSTART;TZID=America/Sao_Paulo:20240924T000000
DTEND;TZID=America/Sao_Paulo:20240929T000000
DTSTAMP:20260422T002049
CREATED:20260302T195229Z
LAST-MODIFIED:20260302T195229Z
UID:10001377-1727136000-1727568000@cbhnew.duckdns.org
SUMMARY:CBS Amazonas - 2024 - Curitiba - PR - 24 a 29/09
DESCRIPTION:Programa \nComunicado I
URL:https://cbhnew.duckdns.org/calendario/cbs-amazonas-2024-curitiba-pr-24-a-29-09/
CATEGORIES:Geral
END:VEVENT
END:VCALENDAR