BEGIN:VCALENDAR
VERSION:2.0
PRODID:-//CBH - ECPv6.15.17.1//NONSGML v1.0//EN
CALSCALE:GREGORIAN
METHOD:PUBLISH
X-WR-CALNAME:CBH
X-ORIGINAL-URL:https://cbhnew.duckdns.org
X-WR-CALDESC:Eventos para CBH
REFRESH-INTERVAL;VALUE=DURATION:PT1H
X-Robots-Tag:noindex
X-PUBLISHED-TTL:PT1H
BEGIN:VTIMEZONE
TZID:America/Sao_Paulo
BEGIN:STANDARD
TZOFFSETFROM:-0300
TZOFFSETTO:-0300
TZNAME:-03
DTSTART:20240101T000000
END:STANDARD
END:VTIMEZONE
BEGIN:VEVENT
DTSTART;TZID=America/Sao_Paulo:20250604T000000
DTEND;TZID=America/Sao_Paulo:20250608T000000
DTSTAMP:20260421T113332
CREATED:20260302T200201Z
LAST-MODIFIED:20260302T200201Z
UID:10001437-1748995200-1749340800@cbhnew.duckdns.org
SUMMARY:CSN - Seletivas Cavalos Novos Mundial de Cavalos Novos e Sul-americano Juventude 2025 - 4 a 8/6
DESCRIPTION:Novos Horários\, Entradas e Resultados e Transmissão ao vivo  \nPrograma \nAdendo I comissários
URL:https://cbhnew.duckdns.org/calendario/csn-seletivas-cavalos-novos-mundial-de-cavalos-novos-e-sul-americano-juventude-2025-4-a-8-6/
END:VEVENT
BEGIN:VEVENT
DTSTART;TZID=America/Sao_Paulo:20250607T000000
DTEND;TZID=America/Sao_Paulo:20250608T000000
DTSTAMP:20260421T113332
CREATED:20260302T200201Z
LAST-MODIFIED:20260302T200201Z
UID:10001438-1749254400-1749340800@cbhnew.duckdns.org
SUMMARY:Desafio Brasil - Adestramento 2025 - PR - 07 a 08/06
DESCRIPTION:Programa
URL:https://cbhnew.duckdns.org/calendario/desafio-brasil-adestramento-2025-pr-07-a-08-06/
END:VEVENT
BEGIN:VEVENT
DTSTART;TZID=America/Sao_Paulo:20250611T000000
DTEND;TZID=America/Sao_Paulo:20250615T000000
DTSTAMP:20260421T113332
CREATED:20260302T200201Z
LAST-MODIFIED:20260302T200201Z
UID:10001439-1749600000-1749945600@cbhnew.duckdns.org
SUMMARY:CSN 5* - Santo Antônio - Circuito Amadores - RJ 11 a 15/06
DESCRIPTION:Programa
URL:https://cbhnew.duckdns.org/calendario/csn-5-santo-antonio-circuito-amadores-rj-11-a-15-06/
END:VEVENT
BEGIN:VEVENT
DTSTART;TZID=America/Sao_Paulo:20250612T000000
DTEND;TZID=America/Sao_Paulo:20250615T000000
DTSTAMP:20260421T113332
CREATED:20260302T200201Z
LAST-MODIFIED:20260302T200201Z
UID:10001440-1749686400-1749945600@cbhnew.duckdns.org
SUMMARY:CSIe PHBR Candangão (DF) - 12 a 15/6
DESCRIPTION:Programa e Resultados
URL:https://cbhnew.duckdns.org/calendario/csie-phbr-candangao-df-12-a-15-6/
END:VEVENT
BEGIN:VEVENT
DTSTART;TZID=America/Sao_Paulo:20250614T000000
DTEND;TZID=America/Sao_Paulo:20250615T000000
DTSTAMP:20260421T113332
CREATED:20260302T200202Z
LAST-MODIFIED:20260302T200202Z
UID:10001441-1749859200-1749945600@cbhnew.duckdns.org
SUMMARY:CCN - Vista Alegre - Pirassununga SP - 14 a 15/06
DESCRIPTION:Programa
URL:https://cbhnew.duckdns.org/calendario/ccn-vista-alegre-pirassununga-sp-14-a-15-06/
END:VEVENT
BEGIN:VEVENT
DTSTART;TZID=America/Sao_Paulo:20250618T000000
DTEND;TZID=America/Sao_Paulo:20250622T000000
DTSTAMP:20260421T113332
CREATED:20260302T201749Z
LAST-MODIFIED:20260302T201749Z
UID:10001442-1750204800-1750550400@cbhnew.duckdns.org
SUMMARY:CSN 5* - Village Mall - RJ - 18 a 22/06
DESCRIPTION:Programa \nComunicado I \nComunicado II
URL:https://cbhnew.duckdns.org/calendario/csn-5-village-mall-rj-18-a-22-06/
CATEGORIES:Geral
END:VEVENT
BEGIN:VEVENT
DTSTART;TZID=America/Sao_Paulo:20250627T000000
DTEND;TZID=America/Sao_Paulo:20250629T000000
DTSTAMP:20260421T113332
CREATED:20260302T201749Z
LAST-MODIFIED:20260302T201749Z
UID:10001443-1750982400-1751155200@cbhnew.duckdns.org
SUMMARY:CAN - 1º RCG - Brasília - DF - 27 a 29/06
DESCRIPTION:Programa
URL:https://cbhnew.duckdns.org/calendario/can-1o-rcg-brasilia-df-27-a-29-06/
CATEGORIES:Geral
END:VEVENT
END:VCALENDAR