BEGIN:VCALENDAR
VERSION:2.0
PRODID:-//CBH - ECPv6.15.17.1//NONSGML v1.0//EN
CALSCALE:GREGORIAN
METHOD:PUBLISH
X-WR-CALNAME:CBH
X-ORIGINAL-URL:https://cbhnew.duckdns.org
X-WR-CALDESC:Eventos para CBH
REFRESH-INTERVAL;VALUE=DURATION:PT1H
X-Robots-Tag:noindex
X-PUBLISHED-TTL:PT1H
BEGIN:VTIMEZONE
TZID:America/Sao_Paulo
BEGIN:STANDARD
TZOFFSETFROM:-0300
TZOFFSETTO:-0300
TZNAME:-03
DTSTART:20240101T000000
END:STANDARD
END:VTIMEZONE
BEGIN:VEVENT
DTSTART;TZID=America/Sao_Paulo:20250702T000000
DTEND;TZID=America/Sao_Paulo:20250706T000000
DTSTAMP:20260421T095617
CREATED:20260302T201749Z
LAST-MODIFIED:20260302T201749Z
UID:10001444-1751414400-1751760000@cbhnew.duckdns.org
SUMMARY:CSN Agromen 2025 - SP 02 a 06/07
DESCRIPTION:Programa
URL:https://cbhnew.duckdns.org/calendario/csn-agromen-2025-sp-02-a-06-07/
CATEGORIES:Geral
END:VEVENT
BEGIN:VEVENT
DTSTART;TZID=America/Sao_Paulo:20250702T000000
DTEND;TZID=America/Sao_Paulo:20250706T000000
DTSTAMP:20260421T095617
CREATED:20260302T201750Z
LAST-MODIFIED:20260302T201750Z
UID:10001445-1751414400-1751760000@cbhnew.duckdns.org
SUMMARY:CAN - SP & CDI3*2*1*\, CDIYH  - 02 a 06/07
DESCRIPTION:Programa Nacional \nPrograma Internacional
URL:https://cbhnew.duckdns.org/calendario/can-sp-cdi321-cdiyh-02-a-06-07/
CATEGORIES:Geral
END:VEVENT
BEGIN:VEVENT
DTSTART;TZID=America/Sao_Paulo:20250703T000000
DTEND;TZID=America/Sao_Paulo:20250706T000000
DTSTAMP:20260421T095617
CREATED:20260302T201750Z
LAST-MODIFIED:20260302T201750Z
UID:10001446-1751500800-1751760000@cbhnew.duckdns.org
SUMMARY:CDI3*2*1*\, CDIYH e CAN - SHP - 3 a 6/7
DESCRIPTION:Programa Internacional
URL:https://cbhnew.duckdns.org/calendario/cdi321-cdiyh-e-can-shp-3-a-6-7/
CATEGORIES:Salto
END:VEVENT
BEGIN:VEVENT
DTSTART;TZID=America/Sao_Paulo:20250703T000000
DTEND;TZID=America/Sao_Paulo:20250706T000000
DTSTAMP:20260421T095617
CREATED:20260302T201753Z
LAST-MODIFIED:20260302T201753Z
UID:10001447-1751500800-1751760000@cbhnew.duckdns.org
SUMMARY:CBS Escolas e Aspirantes 2025 - Brasília - DF - 03 a 06/07
DESCRIPTION:Programa \nComunicado
URL:https://cbhnew.duckdns.org/calendario/cbs-escolas-e-aspirantes-2025-brasilia-df-03-a-06-07/
END:VEVENT
BEGIN:VEVENT
DTSTART;TZID=America/Sao_Paulo:20250704T000000
DTEND;TZID=America/Sao_Paulo:20250706T000000
DTSTAMP:20260421T095617
CREATED:20260302T201753Z
LAST-MODIFIED:20260302T201753Z
UID:10001448-1751587200-1751760000@cbhnew.duckdns.org
SUMMARY:CCN / CCI - Santo Amaro - SP - 04 a 06/07
DESCRIPTION:Programa Nacional \nPrograma Internacional
URL:https://cbhnew.duckdns.org/calendario/ccn-cci-santo-amaro-sp-04-a-06-07/
END:VEVENT
BEGIN:VEVENT
DTSTART;TZID=America/Sao_Paulo:20250709T000000
DTEND;TZID=America/Sao_Paulo:20250713T000000
DTSTAMP:20260421T095617
CREATED:20260302T201753Z
LAST-MODIFIED:20260302T201753Z
UID:10001449-1752019200-1752364800@cbhnew.duckdns.org
SUMMARY:CBS Amadores e Senior Top - SP - 09 a 13/07
DESCRIPTION:Programa
URL:https://cbhnew.duckdns.org/calendario/cbs-amadores-e-senior-top-sp-09-a-13-07/
END:VEVENT
BEGIN:VEVENT
DTSTART;TZID=America/Sao_Paulo:20250715T000000
DTEND;TZID=America/Sao_Paulo:20250720T000000
DTSTAMP:20260421T095617
CREATED:20260302T201754Z
LAST-MODIFIED:20260302T201754Z
UID:10001450-1752537600-1752969600@cbhnew.duckdns.org
SUMMARY:CBS da Juventude 2025 - RJ 15 a 20/07
DESCRIPTION:Programa \nComunicado
URL:https://cbhnew.duckdns.org/calendario/cbs-da-juventude-2025-rj-15-a-20-07/
END:VEVENT
BEGIN:VEVENT
DTSTART;TZID=America/Sao_Paulo:20250717T000000
DTEND;TZID=America/Sao_Paulo:20250720T000000
DTSTAMP:20260421T095617
CREATED:20260302T201754Z
LAST-MODIFIED:20260302T201754Z
UID:10001451-1752710400-1752969600@cbhnew.duckdns.org
SUMMARY:Pan-americano Enduro Brasil - Haras Albar - Campinas - SP 17 a 20/07
DESCRIPTION:Programa Internacional \nInformações Endurance Brazil 
URL:https://cbhnew.duckdns.org/calendario/pan-americano-enduro-brasil-haras-albar-campinas-sp-17-a-20-07/
END:VEVENT
BEGIN:VEVENT
DTSTART;TZID=America/Sao_Paulo:20250723T000000
DTEND;TZID=America/Sao_Paulo:20250727T000000
DTSTAMP:20260421T095617
CREATED:20260302T201805Z
LAST-MODIFIED:20260302T201805Z
UID:10001452-1753228800-1753574400@cbhnew.duckdns.org
SUMMARY:CBS Jovens Cavaleiros 2025 - RJ - 23 a 27/07
DESCRIPTION:Programa \nComunicado
URL:https://cbhnew.duckdns.org/calendario/cbs-jovens-cavaleiros-2025-rj-23-a-27-07/
CATEGORIES:Geral
END:VEVENT
BEGIN:VEVENT
DTSTART;TZID=America/Sao_Paulo:20250725T000000
DTEND;TZID=America/Sao_Paulo:20250726T000000
DTSTAMP:20260421T095617
CREATED:20260302T201806Z
LAST-MODIFIED:20260302T201806Z
UID:10001454-1753401600-1753488000@cbhnew.duckdns.org
SUMMARY:Desafio Brasil - Paradestramento - Curitiba/PR 25 a 26/07
DESCRIPTION:Programa
URL:https://cbhnew.duckdns.org/calendario/desafio-brasil-paradestramento-curitiba-pr-25-a-26-07/
CATEGORIES:Salto
END:VEVENT
BEGIN:VEVENT
DTSTART;TZID=America/Sao_Paulo:20250725T000000
DTEND;TZID=America/Sao_Paulo:20250727T000000
DTSTAMP:20260421T095617
CREATED:20260302T201805Z
LAST-MODIFIED:20260302T201805Z
UID:10001453-1753401600-1753574400@cbhnew.duckdns.org
SUMMARY:CAN - Curitiba - PR 25 a 27/07
DESCRIPTION:Programa
URL:https://cbhnew.duckdns.org/calendario/can-curitiba-pr-25-a-27-07/
CATEGORIES:Geral
END:VEVENT
BEGIN:VEVENT
DTSTART;TZID=America/Sao_Paulo:20250726T000000
DTEND;TZID=America/Sao_Paulo:20250726T000000
DTSTAMP:20260421T095617
CREATED:20260302T201806Z
LAST-MODIFIED:20260302T201806Z
UID:10001456-1753488000-1753488000@cbhnew.duckdns.org
SUMMARY:CEN -Paraná - 26/07
DESCRIPTION:Programa
URL:https://cbhnew.duckdns.org/calendario/cen-parana-26-07/
CATEGORIES:Geral
END:VEVENT
BEGIN:VEVENT
DTSTART;TZID=America/Sao_Paulo:20250726T000000
DTEND;TZID=America/Sao_Paulo:20250727T000000
DTSTAMP:20260421T095617
CREATED:20260302T201806Z
LAST-MODIFIED:20260302T201806Z
UID:10001455-1753488000-1753574400@cbhnew.duckdns.org
SUMMARY:CCN - Dragões da Independência - Brasília - DF - 26 a 27/07
DESCRIPTION:Programa
URL:https://cbhnew.duckdns.org/calendario/ccn-dragoes-da-independencia-brasilia-df-26-a-27-07/
CATEGORIES:Geral
END:VEVENT
BEGIN:VEVENT
DTSTART;TZID=America/Sao_Paulo:20250730T000000
DTEND;TZID=America/Sao_Paulo:20250803T000000
DTSTAMP:20260421T095617
CREATED:20260302T201820Z
LAST-MODIFIED:20260302T201820Z
UID:10001457-1753833600-1754179200@cbhnew.duckdns.org
SUMMARY:Sul-americano de Cavalos Novos - Group V & VI Young Horses Championship - 30/7 a 3/8
DESCRIPTION:Programa
URL:https://cbhnew.duckdns.org/calendario/sul-americano-de-cavalos-novos-group-v-vi-young-horses-championship-30-7-a-3-8/
END:VEVENT
END:VCALENDAR