BEGIN:VCALENDAR
VERSION:2.0
PRODID:-//CBH - ECPv6.15.17.1//NONSGML v1.0//EN
CALSCALE:GREGORIAN
METHOD:PUBLISH
X-WR-CALNAME:CBH
X-ORIGINAL-URL:https://cbhnew.duckdns.org
X-WR-CALDESC:Eventos para CBH
REFRESH-INTERVAL;VALUE=DURATION:PT1H
X-Robots-Tag:noindex
X-PUBLISHED-TTL:PT1H
BEGIN:VTIMEZONE
TZID:America/Sao_Paulo
BEGIN:STANDARD
TZOFFSETFROM:-0300
TZOFFSETTO:-0300
TZNAME:-03
DTSTART:20240101T000000
END:STANDARD
END:VTIMEZONE
BEGIN:VEVENT
DTSTART;TZID=America/Sao_Paulo:20250730T000000
DTEND;TZID=America/Sao_Paulo:20250803T000000
DTSTAMP:20260421T084313
CREATED:20260302T201820Z
LAST-MODIFIED:20260302T201820Z
UID:10001457-1753833600-1754179200@cbhnew.duckdns.org
SUMMARY:Sul-americano de Cavalos Novos - Group V & VI Young Horses Championship - 30/7 a 3/8
DESCRIPTION:Programa
URL:https://cbhnew.duckdns.org/calendario/sul-americano-de-cavalos-novos-group-v-vi-young-horses-championship-30-7-a-3-8/
END:VEVENT
BEGIN:VEVENT
DTSTART;TZID=America/Sao_Paulo:20250806T000000
DTEND;TZID=America/Sao_Paulo:20250810T000000
DTSTAMP:20260421T084313
CREATED:20260302T201821Z
LAST-MODIFIED:20260302T201821Z
UID:10001458-1754438400-1754784000@cbhnew.duckdns.org
SUMMARY:FEI WBFSH Dressage World Breeding Championship for Young Horses - 6 a 10/08
DESCRIPTION:Programa
URL:https://cbhnew.duckdns.org/calendario/fei-wbfsh-dressage-world-breeding-championship-for-young-horses-6-a-10-08/
END:VEVENT
BEGIN:VEVENT
DTSTART;TZID=America/Sao_Paulo:20250814T000000
DTEND;TZID=America/Sao_Paulo:20250816T000000
DTSTAMP:20260421T084313
CREATED:20260302T201821Z
LAST-MODIFIED:20260302T201821Z
UID:10001459-1755129600-1755302400@cbhnew.duckdns.org
SUMMARY:CSN Copa Siel Camará - CE - 14 a 16/08
DESCRIPTION:Programa
URL:https://cbhnew.duckdns.org/calendario/csn-copa-siel-camara-ce-14-a-16-08/
END:VEVENT
BEGIN:VEVENT
DTSTART;TZID=America/Sao_Paulo:20250819T000000
DTEND;TZID=America/Sao_Paulo:20250824T000000
DTSTAMP:20260421T084313
CREATED:20260302T201821Z
LAST-MODIFIED:20260302T201821Z
UID:10001460-1755561600-1755993600@cbhnew.duckdns.org
SUMMARY:CSI-W4* e CSN 5* - 35º Indoor Longines São Paulo Horse Show- SP - 19 a 24/08
DESCRIPTION:Ordens de Entrada\, Resultados e Transmissão ao vivo \nPrograma Nacional \nPrograma Internacional
URL:https://cbhnew.duckdns.org/calendario/csi-w4-e-csn-5-35o-indoor-longines-sao-paulo-horse-show-sp-19-a-24-08/
END:VEVENT
BEGIN:VEVENT
DTSTART;TZID=America/Sao_Paulo:20250822T000000
DTEND;TZID=America/Sao_Paulo:20250824T000000
DTSTAMP:20260421T084313
CREATED:20260302T201821Z
LAST-MODIFIED:20260302T201821Z
UID:10001461-1755820800-1755993600@cbhnew.duckdns.org
SUMMARY:CAN - SHB - RJ - 22 a 24/08
DESCRIPTION:Programa
URL:https://cbhnew.duckdns.org/calendario/can-shb-rj-22-a-24-08/
END:VEVENT
BEGIN:VEVENT
DTSTART;TZID=America/Sao_Paulo:20250823T000000
DTEND;TZID=America/Sao_Paulo:20250823T000000
DTSTAMP:20260421T084313
CREATED:20260302T201833Z
LAST-MODIFIED:20260302T201836Z
UID:10001462-1755907200-1755907200@cbhnew.duckdns.org
SUMMARY:Desafio Brasil de Adestramento - Brasília - DF - 23/08
DESCRIPTION:Programa
URL:https://cbhnew.duckdns.org/calendario/desafio-brasil-de-adestramento-brasilia-df-23-08/
CATEGORIES:Geral
END:VEVENT
BEGIN:VEVENT
DTSTART;TZID=America/Sao_Paulo:20250827T000000
DTEND;TZID=America/Sao_Paulo:20250831T000000
DTSTAMP:20260421T084313
CREATED:20260302T201833Z
LAST-MODIFIED:20260302T201836Z
UID:10001463-1756252800-1756598400@cbhnew.duckdns.org
SUMMARY:CSN 3* Cidade de Campinas - SP 27 a 31/08
DESCRIPTION:Programa \nAdendo I
URL:https://cbhnew.duckdns.org/calendario/csn-3-cidade-de-campinas-sp-27-a-31-08/
CATEGORIES:Geral
END:VEVENT
BEGIN:VEVENT
DTSTART;TZID=America/Sao_Paulo:20250828T000000
DTEND;TZID=America/Sao_Paulo:20250828T000000
DTSTAMP:20260421T084313
CREATED:20260302T201834Z
LAST-MODIFIED:20260302T201836Z
UID:10001465-1756339200-1756339200@cbhnew.duckdns.org
SUMMARY:CCN\, CCI3*S CCI2*L Internacional e Nacional de Hipismo Completo - Escola de Equitação do Exército (RJ) - 28 a 31/8
DESCRIPTION:Programa Internacional  \nPrograma Nacional
URL:https://cbhnew.duckdns.org/calendario/ccn-cci3s-cci2l-internacional-e-nacional-de-hipismo-completo-escola-de-equitacao-do-exercito-rj-28-a-31-8/
CATEGORIES:Geral
END:VEVENT
BEGIN:VEVENT
DTSTART;TZID=America/Sao_Paulo:20250828T000000
DTEND;TZID=America/Sao_Paulo:20250831T000000
DTSTAMP:20260421T084313
CREATED:20260302T201834Z
LAST-MODIFIED:20260302T201836Z
UID:10001464-1756339200-1756598400@cbhnew.duckdns.org
SUMMARY:CPEDI - Indaiatuba - SP - 28 a 31/08
DESCRIPTION:Programa Internacional
URL:https://cbhnew.duckdns.org/calendario/cpedi-indaiatuba-sp-28-a-31-08/
CATEGORIES:Geral
END:VEVENT
END:VCALENDAR