BEGIN:VCALENDAR
VERSION:2.0
PRODID:-//CBH - ECPv6.15.17.1//NONSGML v1.0//EN
CALSCALE:GREGORIAN
METHOD:PUBLISH
X-ORIGINAL-URL:https://cbhnew.duckdns.org
X-WR-CALDESC:Eventos para CBH
REFRESH-INTERVAL;VALUE=DURATION:PT1H
X-Robots-Tag:noindex
X-PUBLISHED-TTL:PT1H
BEGIN:VTIMEZONE
TZID:America/Sao_Paulo
BEGIN:STANDARD
TZOFFSETFROM:-0300
TZOFFSETTO:-0300
TZNAME:-03
DTSTART:20240101T000000
END:STANDARD
END:VTIMEZONE
BEGIN:VEVENT
DTSTART;TZID=America/Sao_Paulo:20250902T000000
DTEND;TZID=America/Sao_Paulo:20250907T000000
DTSTAMP:20260421T072349
CREATED:20260302T201834Z
LAST-MODIFIED:20260302T201837Z
UID:10001466-1756771200-1757203200@cbhnew.duckdns.org
SUMMARY:CSI-W2* e CSN5* 90º Aniversário do Clube Hípico de Santo Amaro (SP) - 2 a 7/9
DESCRIPTION:Programa Nacional  \nAdendo I \nPrograma Internacional (aguarde) \n 
URL:https://cbhnew.duckdns.org/calendario/csi-w2-e-csn5-90o-aniversario-do-clube-hipico-de-santo-amaro-sp-2-a-7-9/
CATEGORIES:Geral
END:VEVENT
BEGIN:VEVENT
DTSTART;TZID=America/Sao_Paulo:20250910T000000
DTEND;TZID=America/Sao_Paulo:20250914T000000
DTSTAMP:20260421T072349
CREATED:20260302T201838Z
LAST-MODIFIED:20260302T201838Z
UID:10001467-1757462400-1757808000@cbhnew.duckdns.org
SUMMARY:CSN 5* Copa SABEMI - RJ - 10 a 14/09
DESCRIPTION:Programa
URL:https://cbhnew.duckdns.org/calendario/csn-5-copa-sabemi-rj-10-a-14-09/
END:VEVENT
BEGIN:VEVENT
DTSTART;TZID=America/Sao_Paulo:20250911T000000
DTEND;TZID=America/Sao_Paulo:20250914T000000
DTSTAMP:20260421T072349
CREATED:20260302T201839Z
LAST-MODIFIED:20260302T201839Z
UID:10001468-1757548800-1757808000@cbhnew.duckdns.org
SUMMARY:CAN\, CDI3*2*1* Internacional e Nacional de Adestramento Rocas do Vouga - Itu (SP) - 11 a 14/9
DESCRIPTION:Programa Internacional  \nPrograma Nacional
URL:https://cbhnew.duckdns.org/calendario/can-cdi321-internacional-e-nacional-de-adestramento-rocas-do-vouga-itu-sp-11-a-14-9/
END:VEVENT
BEGIN:VEVENT
DTSTART;TZID=America/Sao_Paulo:20250915T000000
DTEND;TZID=America/Sao_Paulo:20250921T000000
DTSTAMP:20260421T072349
CREATED:20260302T201839Z
LAST-MODIFIED:20260302T201839Z
UID:10001469-1757894400-1758412800@cbhnew.duckdns.org
SUMMARY:CSN SHMG - 2025 - Contagem - MG - 15 a 21/09
DESCRIPTION:Programa
URL:https://cbhnew.duckdns.org/calendario/csn-shmg-2025-contagem-mg-15-a-21-09/
END:VEVENT
BEGIN:VEVENT
DTSTART;TZID=America/Sao_Paulo:20250919T000000
DTEND;TZID=America/Sao_Paulo:20250920T000000
DTSTAMP:20260421T072349
CREATED:20260302T201839Z
LAST-MODIFIED:20260302T201839Z
UID:10001470-1758240000-1758326400@cbhnew.duckdns.org
SUMMARY:XXXIV - Enduro - Internacional e Campeonato Brasileiro 2025 - Caetanopolis / MG - 19 a 20/09
DESCRIPTION:Programa Nacional \nPrograma Internacional
URL:https://cbhnew.duckdns.org/calendario/xxxiv-enduro-internacional-e-campeonato-brasileiro-2025-caetanopolis-mg-19-a-20-09/
END:VEVENT
BEGIN:VEVENT
DTSTART;TZID=America/Sao_Paulo:20250919T000000
DTEND;TZID=America/Sao_Paulo:20250921T000000
DTSTAMP:20260421T072349
CREATED:20260302T201840Z
LAST-MODIFIED:20260302T201840Z
UID:10001471-1758240000-1758412800@cbhnew.duckdns.org
SUMMARY:CSN 2* - Aniversário da Sociedade Hípica de Brasília - DF - 19 a 21/09
DESCRIPTION:Programa
URL:https://cbhnew.duckdns.org/calendario/csn-2-aniversario-da-sociedade-hipica-de-brasilia-df-19-a-21-09/
END:VEVENT
BEGIN:VEVENT
DTSTART;TZID=America/Sao_Paulo:20250920T000000
DTEND;TZID=America/Sao_Paulo:20250920T000000
DTSTAMP:20260421T072349
CREATED:20260302T201843Z
LAST-MODIFIED:20260302T201843Z
UID:10001472-1758326400-1758326400@cbhnew.duckdns.org
SUMMARY:Desafio Brasil e Nacional de Adestramento  - Tatuí - SP - 20 e 21/9
DESCRIPTION:Programa Desafio Brasil   \nPrograma CAN
URL:https://cbhnew.duckdns.org/calendario/desafio-brasil-e-nacional-de-adestramento-tatui-sp-20-e-21-9/
CATEGORIES:Geral
END:VEVENT
BEGIN:VEVENT
DTSTART;TZID=America/Sao_Paulo:20250920T000000
DTEND;TZID=America/Sao_Paulo:20250921T000000
DTSTAMP:20260421T072349
CREATED:20260302T201844Z
LAST-MODIFIED:20260302T201844Z
UID:10001473-1758326400-1758412800@cbhnew.duckdns.org
SUMMARY:CAN - Centro Hípico de Tatuí  Tatuí | SP - 20 a 21/09
DESCRIPTION:Programa
URL:https://cbhnew.duckdns.org/calendario/can-centro-hipico-de-tatui-tatui-sp-20-a-21-09/
CATEGORIES:Geral
END:VEVENT
BEGIN:VEVENT
DTSTART;TZID=America/Sao_Paulo:20250920T000000
DTEND;TZID=America/Sao_Paulo:20250921T000000
DTSTAMP:20260421T072349
CREATED:20260302T201844Z
LAST-MODIFIED:20260302T201844Z
UID:10001474-1758326400-1758412800@cbhnew.duckdns.org
SUMMARY:Nacional Hipismo Completo  - Hípica Veiga - Três Pontas (MG) - 20 e 21/9
DESCRIPTION:Programa \nFicha cadastral
URL:https://cbhnew.duckdns.org/calendario/nacional-hipismo-completo-hipica-veiga-tres-pontas-mg-20-e-21-9/
CATEGORIES:Salto
END:VEVENT
BEGIN:VEVENT
DTSTART;TZID=America/Sao_Paulo:20250923T000000
DTEND;TZID=America/Sao_Paulo:20250928T000000
DTSTAMP:20260421T072349
CREATED:20260302T201844Z
LAST-MODIFIED:20260302T201844Z
UID:10001475-1758585600-1759017600@cbhnew.duckdns.org
SUMMARY:CSN 5* - 80º Aniversário da SHPr - PR - 23 a 28/09
DESCRIPTION:Programa \nAdendo I
URL:https://cbhnew.duckdns.org/calendario/csn-5-80o-aniversario-da-shpr-pr-23-a-28-09/
CATEGORIES:Geral
END:VEVENT
BEGIN:VEVENT
DTSTART;TZID=America/Sao_Paulo:20250929T000000
DTEND;TZID=America/Sao_Paulo:20251005T000000
DTSTAMP:20260421T072349
CREATED:20260302T201844Z
LAST-MODIFIED:20260302T201844Z
UID:10001476-1759104000-1759622400@cbhnew.duckdns.org
SUMMARY:FEI South American Jumping Championship Paraguay 2025 - 29/09 a 05/10
DESCRIPTION:Programa Internacional
URL:https://cbhnew.duckdns.org/calendario/fei-south-american-jumping-championship-paraguay-2025-29-09-a-05-10/
CATEGORIES:Geral
END:VEVENT
END:VCALENDAR